BEGIN:VCALENDAR
VERSION:2.0
PRODID:-//Canopy + the Roots - ECPv6.15.20//NONSGML v1.0//EN
CALSCALE:GREGORIAN
METHOD:PUBLISH
X-ORIGINAL-URL:https://canopyandtheroots.com
X-WR-CALDESC:Events for Canopy + the Roots
REFRESH-INTERVAL;VALUE=DURATION:PT1H
X-Robots-Tag:noindex
X-PUBLISHED-TTL:PT1H
BEGIN:VTIMEZONE
TZID:America/New_York
BEGIN:DAYLIGHT
TZOFFSETFROM:-0500
TZOFFSETTO:-0400
TZNAME:EDT
DTSTART:20240310T070000
END:DAYLIGHT
BEGIN:STANDARD
TZOFFSETFROM:-0400
TZOFFSETTO:-0500
TZNAME:EST
DTSTART:20241103T060000
END:STANDARD
BEGIN:DAYLIGHT
TZOFFSETFROM:-0500
TZOFFSETTO:-0400
TZNAME:EDT
DTSTART:20250309T070000
END:DAYLIGHT
BEGIN:STANDARD
TZOFFSETFROM:-0400
TZOFFSETTO:-0500
TZNAME:EST
DTSTART:20251102T060000
END:STANDARD
BEGIN:DAYLIGHT
TZOFFSETFROM:-0500
TZOFFSETTO:-0400
TZNAME:EDT
DTSTART:20260308T070000
END:DAYLIGHT
BEGIN:STANDARD
TZOFFSETFROM:-0400
TZOFFSETTO:-0500
TZNAME:EST
DTSTART:20261101T060000
END:STANDARD
END:VTIMEZONE
BEGIN:VEVENT
DTSTART;TZID=America/New_York:20251202T171500
DTEND;TZID=America/New_York:20251202T181500
DTSTAMP:20260422T161205
CREATED:20251006T182939Z
LAST-MODIFIED:20251124T181447Z
UID:16445-1764695700-1764699300@canopyandtheroots.com
SUMMARY:Flexin' Fit with Franchesca
DESCRIPTION:This is a beginners level class that will focus on optimal flexibility\, range of motion\, and core strength. Utilizing Pilates and yoga-inspired exercises on mats\, even those with previous injuries or challenges can find modifications to meet their body where it is. Franchesca is an experienced Pilates instructor and movement coach. Mats available for $1 rental; first class is FREE.
URL:https://canopyandtheroots.com/event/flexin-fit-with-franchesca
LOCATION:Canopy + the Roots
CATEGORIES:yoga
ATTACH;FMTTYPE=image/jpeg:https://canopyandtheroots.com/wp-content/uploads/2025/10/flexinfit.jpg
END:VEVENT
BEGIN:VEVENT
DTSTART;TZID=America/New_York:20251213T193000
DTEND;TZID=America/New_York:20251213T210000
DTSTAMP:20260422T161205
CREATED:20251121T163237Z
LAST-MODIFIED:20251208T155522Z
UID:16516-1765654200-1765659600@canopyandtheroots.com
SUMMARY:The Sam McDuffie Experience\, emerging artist LIVE in the Roots
DESCRIPTION:Purchase tickets HERE.\nThis night of music will bring the Samuel McDuffie experience. Enjoy a night of songwriting\, storytelling\, laughs and sing-alongs.\n\n\n\nSamuel McDuffie found his love for music and songwriting as a teenager growing up in Macon\, GA. He wrote his first song at age 13 and performed his first concert at age 15. Over the years\, Samuel has lived and toured all over the southeast\, allowing him to grow his songwriting and stage presence. He now lives in Dahlonega\, GA\, and hopes to continue to perform and entertain. Through his love of Southern Rock and interest in Appalachian American culture\, he has crafted his songwriting into an artform of storytelling\, ranging from sing-a-longs to character building. \nHis craftsmanship takes the listener on a journey through history and gives them the perspective of the characters he has created with his songs. \nIntimately connect to both artist and venue in our lush\, speakeasy-style\, 100 seat listening room. Hear the stories behind the all-original songs as the artist(s) share their inspiration and even their heartaches. \nDoors open at 7:00pm; show starts at 7:30pm; VIP lounge or balcony seating with table service available by contacting events@canopyandtheroots.com .
URL:https://canopyandtheroots.com/event/the-sam-mcduffie-experience-emerging-artist-live-in-the-roots
LOCATION:the Roots
CATEGORIES:art,music,performing arts
ATTACH;FMTTYPE=image/jpeg:https://canopyandtheroots.com/wp-content/uploads/2025/11/samMcduff.jpg
END:VEVENT
BEGIN:VEVENT
DTSTART;TZID=America/New_York:20251218T193000
DTEND;TZID=America/New_York:20251218T210000
DTSTAMP:20260422T161205
CREATED:20251208T181024Z
LAST-MODIFIED:20251216T222032Z
UID:16548-1766086200-1766091600@canopyandtheroots.com
SUMMARY:Comedy for Canines with Brooke Barry
DESCRIPTION:Get Tickets HERE. \nMust love comedy and dogs for this one! Join us for a night of laughter and stories with comedian Brooke Barry. Brooke was raised by dogs\, which is why she has issues with codependency and drooling. From trailer park life\, to being kidnapped\, to finding out who her real daddy was\, these stories are as absurd as they are funny. Come find out how Brooke’s own life as a stray has fueled her passion for starting Comedy for Canines and saving as many dogs as possible\, because they always saved her.We will also have an Adoptable Dog Showcase\, featuring one or two of the many adoptable pups from TLC Humane Society. A raffle drawing will conclude our show with great gifts and prizes from local donors.Ticket proceeds will benefit TLC Humane Society. Please come out and support your local pups!
URL:https://canopyandtheroots.com/event/comedy-for-canines-with-brooke-barry
LOCATION:the Roots
ATTACH;FMTTYPE=image/jpeg:https://canopyandtheroots.com/wp-content/uploads/2025/12/comedyforcanines.jpg
END:VEVENT
BEGIN:VEVENT
DTSTART;TZID=America/New_York:20251219T193000
DTEND;TZID=America/New_York:20251219T210000
DTSTAMP:20260422T161205
CREATED:20251125T202657Z
LAST-MODIFIED:20251208T155952Z
UID:16533-1766172600-1766178000@canopyandtheroots.com
SUMMARY:Sugar Lime Blue\, multi-genre country-blues LIVE in the Roots
DESCRIPTION:Purchase Tickets HERE. \nAshley & Dave\, the Tennessee based dynamic duo behind Sugar Lime Blue\, who deliver a captivating blend of sounds that bridge genres and engage audiences. Cosmic Cowgirl is a genre that fuses classic country storytelling with psychedelic\, bluesy\, and jam-infused elements\, creating a unique sound that feels both grounded and otherworldly. \nAbout Ashley & Dave :\nAs members of the Americana Association and the Nashville Blues and Roots Alliance\, Ashley & Dave are currently touring in support of their latest album\, The Blackbird Session. This album has gained significant traction\, receiving airplay on over 100 FM stations nationwide. Their lead single\, “Burn It\,” has garnered over 100\,000 views on YouTube\, while “Hello October” has gone viral on Instagram\, featuring in over 140\,000 reels and racking up millions of plays. \nIntimately connect to both artist and venue in our lush\, speakeasy-style\, 100 seat listening room. Hear the stories behind the all-original songs as the artist(s) share their inspiration and even their heartaches. \nDoors open at 7:00pm; show starts at 7:30pm; VIP lounge or balcony seating with table service available by contacting events@canopyandtheroots.com .
URL:https://canopyandtheroots.com/event/sugar-lime-blue-multi-genre-country-blues-live-in-the-roots
LOCATION:the Roots
CATEGORIES:art,music
ATTACH;FMTTYPE=image/jpeg:https://canopyandtheroots.com/wp-content/uploads/2025/11/sugarlimeblue-e1771957014542.jpg
END:VEVENT
BEGIN:VEVENT
DTSTART;TZID=America/New_York:20251227T193000
DTEND;TZID=America/New_York:20251227T210000
DTSTAMP:20260422T161205
CREATED:20250205T154702Z
LAST-MODIFIED:20251218T181816Z
UID:16247-1766863800-1766869200@canopyandtheroots.com
SUMMARY:The Mushroom Herders : Organically GA-Grown Folk
DESCRIPTION:Purchase Tickets HERE. \n\n\n\n\n\nThe Mushroom Herders is the organic music project of North Georgia’s own Christopher Estrada. The sound blends traditional folk roots with modern progressive textures\, drawing from bluegrass\, jazz\, and classical influences. The result is music that feels alive\, rich\, soulful\, and immersive.\nThe doors and speakeasy open at 7:00PM with show beginning at 7:30PM. Experience a performance in a venue like no other in our underground “speakeasy” listening room. Turn off your cell phones and be present to hear the stories behind the songs and writing of original artists. Limited seating. \n\n\n\n\n\n 
URL:https://canopyandtheroots.com/event/the-mushroom-herders-organically-ga-grown-folk
LOCATION:the Roots
CATEGORIES:music
ATTACH;FMTTYPE=image/jpeg:https://canopyandtheroots.com/wp-content/uploads/2025/02/mushroomherders_december25.jpg
END:VEVENT
END:VCALENDAR