BEGIN:VCALENDAR
VERSION:2.0
PRODID:-//Canopy + the Roots - ECPv6.15.20//NONSGML v1.0//EN
CALSCALE:GREGORIAN
METHOD:PUBLISH
X-ORIGINAL-URL:https://canopyandtheroots.com
X-WR-CALDESC:Events for Canopy + the Roots
REFRESH-INTERVAL;VALUE=DURATION:PT1H
X-Robots-Tag:noindex
X-PUBLISHED-TTL:PT1H
BEGIN:VTIMEZONE
TZID:America/New_York
BEGIN:DAYLIGHT
TZOFFSETFROM:-0500
TZOFFSETTO:-0400
TZNAME:EDT
DTSTART:20240310T070000
END:DAYLIGHT
BEGIN:STANDARD
TZOFFSETFROM:-0400
TZOFFSETTO:-0500
TZNAME:EST
DTSTART:20241103T060000
END:STANDARD
BEGIN:DAYLIGHT
TZOFFSETFROM:-0500
TZOFFSETTO:-0400
TZNAME:EDT
DTSTART:20250309T070000
END:DAYLIGHT
BEGIN:STANDARD
TZOFFSETFROM:-0400
TZOFFSETTO:-0500
TZNAME:EST
DTSTART:20251102T060000
END:STANDARD
BEGIN:DAYLIGHT
TZOFFSETFROM:-0500
TZOFFSETTO:-0400
TZNAME:EDT
DTSTART:20260308T070000
END:DAYLIGHT
BEGIN:STANDARD
TZOFFSETFROM:-0400
TZOFFSETTO:-0500
TZNAME:EST
DTSTART:20261101T060000
END:STANDARD
END:VTIMEZONE
BEGIN:VEVENT
DTSTART;TZID=America/New_York:20250906T180000
DTEND;TZID=America/New_York:20250906T210000
DTSTAMP:20260422T204105
CREATED:20250616T165301Z
LAST-MODIFIED:20250814T145243Z
UID:16351-1757181600-1757192400@canopyandtheroots.com
SUMMARY:Nonni's Bakery Whisk + Sip w/ Mayberry Wine: Indie-Folk Duo LIVE
DESCRIPTION:Purchase tickets HERE. \nWhisk + Sip with Mayberry Wine: LIVE in the Roots \nTake the star-crossed feel of The Civil Wars\, sprinkle with Shovels & Rope moxie\, and inject the funky good vibes of Oliver Wood\, and you’ll brew a hefty draught of Mayberry Wine. This Americana duo’s passionate\, thoughtful indie folk music ranges from loungecore and swamp jazz to blues and bossa nova. \nCome join us for a fun and creative evening at Canopy + the Roots! Grab a glass of your favorite beverage and let your artistic side shine as you whisk and paint your way through the night. Whisk & Sip by Nonni’s Bakery — An evening where cakes become canvases and buttercream becomes paint. With a palette knife in hand\, you’ll swirl\, sweep\, and layer color into edible florals while the aroma of fresh coffee lingers and live music drifts through the air. A creative escape\, served with a side of melody and a sip of something sweet. \nTimeline: \n6:00pm Whisk and Paint Workshop \n7:30pm Live Performance w/ Mayberry Wine \nIncluded in this ticket price is one “Whisk + Sip” workshop admission\, all supplies\, one general admission ticket to the Mayberry Wine performance with a VIP seat. \nThis in-person event is the perfect opportunity to unwind and create something beautiful and culinary! No experience necessary – just bring your creativity! \nConnect authentically to the artists by hearing them in our “speakeasy”-styled intimate listening room\, the Roots\, located underground beneath the Canopy social house. Hear the stories behind the songs as the artist(s) share their inspiration and even their heartaches. VIP lounge with couches\, booths\, and tables are available. Reserve by emailing events@canopyandtheroots.com .
URL:https://canopyandtheroots.com/event/mayberrywinewhisk-and-sip-live-in-the-roots
LOCATION:the Roots
CATEGORIES:music,performing arts,tasting,training,workshop/class
ATTACH;FMTTYPE=image/jpeg:https://canopyandtheroots.com/wp-content/uploads/2025/06/mayberrywinewhiskandsip-scaled.jpg
END:VEVENT
BEGIN:VEVENT
DTSTART;TZID=America/New_York:20250906T193000
DTEND;TZID=America/New_York:20250906T210000
DTSTAMP:20260422T204105
CREATED:20250814T130016Z
LAST-MODIFIED:20250814T145129Z
UID:16407-1757187000-1757192400@canopyandtheroots.com
SUMMARY:Mayberry Wine: Indie-Folk LIVE in the Roots
DESCRIPTION:Purchase tickets HERE. \nTake the star-crossed feel of The Civil Wars\, sprinkle with Shovels & Rope moxie\, and inject the funky good vibes of Oliver Wood\, and you’ll brew a hefty draught of Mayberry Wine. This Americana duo’s passionate\, thoughtful indie folk music ranges from loungecore and swamp jazz to blues and bossa nova. \nConnect authentically to the artists by hearing them in our “speakeasy”-styled intimate listening room\, the Roots\, located underground beneath the Canopy social house. Hear the stories behind the songs as the artist(s) share their inspiration and even their heartaches. VIP lounge with couches\, booths\, and tables are available. Reserve by emailing events@canopyandtheroots.com .
URL:https://canopyandtheroots.com/event/mayberry-wine-indie-folk-live-in-the-roots
LOCATION:the Roots
CATEGORIES:music
ATTACH;FMTTYPE=image/jpeg:https://canopyandtheroots.com/wp-content/uploads/2025/06/mayberrywinewhiskandsip-scaled.jpg
END:VEVENT
BEGIN:VEVENT
DTSTART;TZID=America/New_York:20250913T193000
DTEND;TZID=America/New_York:20250913T210000
DTSTAMP:20260422T204105
CREATED:20250819T165142Z
LAST-MODIFIED:20250819T165210Z
UID:16419-1757791800-1757797200@canopyandtheroots.com
SUMMARY:Texas Blues-Rock Singer-Songwriter: MARK WINTERS LIVE in the Roots
DESCRIPTION:Purchase Tickets HERE. \nTexas-based rock singer-songwriter Mark Winters is many things; a witty poet\, passionate musician\, entrepreneur\, optimist\, family man\, and a bonafide rocket scientist. He first picked up a guitar to play a song for his wife on their anniversary. That’s when he discovered the joy of connecting with people through music. Mark combines music\, poetry\, a science background\, and love for his community to form his signature sound\, “rock with a positive vibe.” \nHis musical roots are in rock\, blues rock\, and pop\, and John Mayer\, Tom Petty\, and Jason Mraz are significant influences. “My music starts from a place of poetry and creative inspiration\, and I use my ‘rocket-scientist brain’ to find structures that help me explore that initial burst of inspiration and feeling – like writing haikus\, my favorite! My grandmother taught me to express myself through poetry and I’m thankful to her for setting me on this creative and expressive path.” \nMark Winters’ “Boundary Layer” will put you in the high frequency energy state to feel ultra confident to release your old boundaries. – Americana Highways \nWinters writes songs that are catchy and engaging that will brighten your day and lift your mood.” \n– Indie Band Guru \n“Mark Winters is a mad rocket-scientist who finds his charm through the magic of poetry and music” – Testing Melodies \n“And when Winters sings? Man\, he pours his heart and soul into it. You can practically feel the passion in every note. His voice climbs\, and it’s like he’s sending out this wave of hope and positivity.” – Music Arenagh \nConnect authentically to the artists by hearing them in our “speakeasy”-styled intimate listening room\, the Roots\, located underground beneath the Canopy social house. Hear the stories behind the songs as the artist(s) share their inspiration and even their heartaches. Doors open at 7:00pm; show starts at 7:30pm; VIP lounge with couches\, booths\, and tables are available. Reserve by emailing events@canopyandtheroots.com . .
URL:https://canopyandtheroots.com/event/texas-blues-rock-singer-songwriter-mark-winters-live-in-the-roots
LOCATION:the Roots
CATEGORIES:music
ATTACH;FMTTYPE=image/png:https://canopyandtheroots.com/wp-content/uploads/2025/08/Mark-Winters-Profile-6.png
END:VEVENT
BEGIN:VEVENT
DTSTART;TZID=America/New_York:20250920T193000
DTEND;TZID=America/New_York:20250920T213000
DTSTAMP:20260422T204105
CREATED:20250715T191606Z
LAST-MODIFIED:20250722T202144Z
UID:16389-1758396600-1758403800@canopyandtheroots.com
SUMMARY:Indie Country-Folk Singer-Songwriters: Jonathan & Abby Peyton w/ Hunter Blalock
DESCRIPTION:Purchase TICKETS HERE. \nJonathan Peyton is an independent singer/songwriter from Woodstock\, Ga. He writes emotion-evoking songs that tell a story and captivate audiences by their relatability and honesty. With his upbringing in North Georgia\, Jonathan found himself gravitating towards music to help process his life experiences and soon started writing music to tell his stories. \nJonathan and his wife Abigail teamed up with Sadler Vaden of Jason Isbell and the 400 Unit for their 2nd studio album “Nothing Here’s the Same” which released in 2024. They quickly found themselves back in the studio in for their next album “How We’ve Come So Far” which releases in August of 2025. \nJonathan and Abigail have had the opportunity to open for acts such as Zach Bryan\, The Head and the Heart\, Charles Wesley Godwin\, Wyatt Flores\, Drew Holcomb\, and more! In 2023 they opened 2 nights at the legendary Red Rocks Amphitheatre in Morrison\, Colorado\, for Zach Bryan. \nHunter Blalock is a songwriter who doesn’t shy away from the heavy stuff. With a worn notebook\, a beat-up guitar\, and a voice that feels like late nights on the road\, he writes songs that say the things most people are afraid to. His music digs into the raw\, real parts of life—the quiet battles\, the heartbreaks\, the unspoken truths—offering connection in places where silence usually lives. \nProudly from Northwest Georgia\, Hunter carries the grit\, grace\, and storytelling spirit of home into everything he does. That place—its people\, its stillness\, its struggles—has shaped him as both an artist and a person. \nHe’s been touring for years\, carving out a space on stages big and small\, and building a following one honest song at a time. His debut record\, Cherokee Hills\, released in November 2024\, captures that spirit—stories wrapped in melody\, meant to meet people where they are. \nHunter’s not chasing fame—he’s chasing truth. Whether it’s a dim-lit venue or the middle of nowhere\, his songs carry a kind of quiet gravity\, and find you when you need them most. \nConnect authentically to the artists by hearing them in our “speakeasy”-styled intimate listening room\, the Roots\, located underground beneath the Canopy social house. Hear the stories behind the songs as the artist(s) share their inspiration and even their heartaches. Doors open at 7:00pm; show starts at 7:30pm; VIP lounge with couches\, booths\, and tables are available. Reserve by emailing events@canopyandtheroots.com . .
URL:https://canopyandtheroots.com/event/indie-country-folk-singer-songwriters-jonathan-abby-peyton-w-hunter-blalock
LOCATION:the Roots
CATEGORIES:music
ATTACH;FMTTYPE=image/jpeg:https://canopyandtheroots.com/wp-content/uploads/2025/07/peytonsblalock.jpg
END:VEVENT
END:VCALENDAR