BEGIN:VCALENDAR
VERSION:2.0
PRODID:-//Canopy + the Roots - ECPv6.15.20//NONSGML v1.0//EN
CALSCALE:GREGORIAN
METHOD:PUBLISH
X-ORIGINAL-URL:https://canopyandtheroots.com
X-WR-CALDESC:Events for Canopy + the Roots
REFRESH-INTERVAL;VALUE=DURATION:PT1H
X-Robots-Tag:noindex
X-PUBLISHED-TTL:PT1H
BEGIN:VTIMEZONE
TZID:America/New_York
BEGIN:DAYLIGHT
TZOFFSETFROM:-0500
TZOFFSETTO:-0400
TZNAME:EDT
DTSTART:20240310T070000
END:DAYLIGHT
BEGIN:STANDARD
TZOFFSETFROM:-0400
TZOFFSETTO:-0500
TZNAME:EST
DTSTART:20241103T060000
END:STANDARD
BEGIN:DAYLIGHT
TZOFFSETFROM:-0500
TZOFFSETTO:-0400
TZNAME:EDT
DTSTART:20250309T070000
END:DAYLIGHT
BEGIN:STANDARD
TZOFFSETFROM:-0400
TZOFFSETTO:-0500
TZNAME:EST
DTSTART:20251102T060000
END:STANDARD
BEGIN:DAYLIGHT
TZOFFSETFROM:-0500
TZOFFSETTO:-0400
TZNAME:EDT
DTSTART:20260308T070000
END:DAYLIGHT
BEGIN:STANDARD
TZOFFSETFROM:-0400
TZOFFSETTO:-0500
TZNAME:EST
DTSTART:20261101T060000
END:STANDARD
END:VTIMEZONE
BEGIN:VEVENT
DTSTART;TZID=America/New_York:20250809T193000
DTEND;TZID=America/New_York:20250809T210000
DTSTAMP:20260422T222303
CREATED:20250618T175721Z
LAST-MODIFIED:20250618T190256Z
UID:16358-1754767800-1754773200@canopyandtheroots.com
SUMMARY:Cai Gray: singer-songwriter/storyteller LIVE in the Roots
DESCRIPTION:Purchase tickets HERE. \nCai Gray takes listeners deep into his own mental struggles and invites them to fight along side him. Imagine One Republics cinematic productions melded with emotional acoustic instrumentals like Shawn Mendes\, wrapped up in a solo artist package. His songs are poetic\, but grounded in real world struggles\, they make you want to succeed or ball your eyes out\, and they even come with a little southern twang and soul. He makes music for the people that want to be better as individuals and want to know they aren’t alone in this insane world. \nhttps://www.youtube.com/channel/UCe0MCYhVmeCBP_ozjrOur7g?view_as=subscriber \nhttps://www.instagram.com/caigraymusic \nConnect authentically to the artists by hearing them in our “speakeasy”-styled intimate listening room\, the Roots\, located underground beneath the Canopy social house. Hear the stories behind the songs as the artist(s) share their inspiration and even their heartaches. Doors open at 7:00pm; show starts at 7:30pm; VIP lounge with couches\, booths\, and tables are available. Reserve by emailing events@canopyandtheroots.com . Locally-sourced craft beer and wine available for purchase.
URL:https://canopyandtheroots.com/event/cai-gray-singer-songwriter-storyteller-live-in-the-roots
LOCATION:the Roots
CATEGORIES:music
ATTACH;FMTTYPE=image/jpeg:https://canopyandtheroots.com/wp-content/uploads/2025/06/The_Overgrown_CaiGray.jpg
END:VEVENT
BEGIN:VEVENT
DTSTART;TZID=America/New_York:20250816T193000
DTEND;TZID=America/New_York:20250816T210000
DTSTAMP:20260422T222303
CREATED:20210729T162308Z
LAST-MODIFIED:20250703T185205Z
UID:9730-1755372600-1755378000@canopyandtheroots.com
SUMMARY:Katalysst :: Folk-Rock Duo returns to the Roots
DESCRIPTION:Purchase Tickets HERE. \nKatalysst is a female-fronted folk-rock group that promises to touch your heart and grip your mind with harmonically-driven and lyrically-compelling music. Kat is a powerhouse of a vocalist with a background in opera\, and Alyssa adds soft harmonies and dynamic bass lines to drive their sound into unexpected places. Literature and philosophy are often employed to take their songs far into spaces of introspection \nExperience performance in a venue like no other in the Roots. We are a social house and yoga studio upstairs\, a speakeasy listening room underground. Every performance is intimate and every ticket is like a back stage pass. Craft beer and wine available. Doors open at 7:30pm; Private Table\, Couch\, and Booth service reservations are available on our website via event link on calendar. Limited seating. \n 
URL:https://canopyandtheroots.com/event/katalysst-progressive-folk-rock-live-in-the-roots
LOCATION:the Roots
CATEGORIES:music
ATTACH;FMTTYPE=image/jpeg:https://canopyandtheroots.com/wp-content/uploads/2021/07/katalysst_08-16-25-scaled.jpg
END:VEVENT
BEGIN:VEVENT
DTSTART;TZID=America/New_York:20250829T200000
DTEND;TZID=America/New_York:20250829T220000
DTSTAMP:20260422T222303
CREATED:20250407T163830Z
LAST-MODIFIED:20250819T163853Z
UID:16312-1756497600-1756504800@canopyandtheroots.com
SUMMARY:Die Laughing Comedy presents multi-comic standup LIVE at Canopy + the Roots
DESCRIPTION:Purchase tickets HERE. \nDahlonega\, GA! Die Laughing comedy comes to Canopy + The Roots showing off the best comedians from Atlanta. Don’t miss this once a month show hosted in the best speakeasy in north GA. Comedy shows feature comedians from The Laughing Skull Lounge. Punchline Comedy Club. Comedy Central. Don’t Tell Comedy. Late Night With Jimmy Fallon\, HBO Max\, Adult Swim\, Dry Bar +\, and more. \n  \n  \n 
URL:https://canopyandtheroots.com/event/die-laughing-comedy-presents-multi-comic-standup-live-at-canopy-the-roots-6
LOCATION:the Roots
CATEGORIES:comedy,music
ATTACH;FMTTYPE=image/png:https://canopyandtheroots.com/wp-content/uploads/2025/02/cnpycupping.png
END:VEVENT
BEGIN:VEVENT
DTSTART;TZID=America/New_York:20250831T130000
DTEND;TZID=America/New_York:20250831T140000
DTSTAMP:20260422T222303
CREATED:20210721T185907Z
LAST-MODIFIED:20250820T165105Z
UID:9701-1756645200-1756648800@canopyandtheroots.com
SUMMARY:Coffee Cupping Event + "Meet the Roaster" P6 w/ UNG grads\, COFFEEMAN
DESCRIPTION:Pre-Register HERE for free. \nOur Sixth-Ever Coffee Cupping in a series “MEET Your Local Roaster” with @drinkcoffeeman IS happening and free to attend! ☕️ Sunday\, August 31 from 1:00-2:00pm\, we will be sampling the dry aromas\, brewing and tasting four uniquely-roasted beans from Coffeeman\, a coffee roasting company founded by two UNG graduates! AND four hand-curated local roasts from C+R barista-fabulous\, Apollo . #shoplocal and learn more about coffee with us!
URL:https://canopyandtheroots.com/event/first-ever-coffee-cupping-event-with-meet-the-roaster-p1-coffeeman
LOCATION:the Roots
CATEGORIES:tasting,workshop/class
ATTACH;FMTTYPE=image/jpeg:https://canopyandtheroots.com/wp-content/uploads/2021/07/meettheroasterp6_cupping_canopyandtheroots-Recovered-scaled.jpg
END:VEVENT
END:VCALENDAR