BEGIN:VCALENDAR
VERSION:2.0
PRODID:-//Canopy + the Roots - ECPv6.15.20//NONSGML v1.0//EN
CALSCALE:GREGORIAN
METHOD:PUBLISH
X-WR-CALNAME:Canopy + the Roots
X-ORIGINAL-URL:https://canopyandtheroots.com
X-WR-CALDESC:Events for Canopy + the Roots
REFRESH-INTERVAL;VALUE=DURATION:PT1H
X-Robots-Tag:noindex
X-PUBLISHED-TTL:PT1H
BEGIN:VTIMEZONE
TZID:America/New_York
BEGIN:DAYLIGHT
TZOFFSETFROM:-0500
TZOFFSETTO:-0400
TZNAME:EDT
DTSTART:20240310T070000
END:DAYLIGHT
BEGIN:STANDARD
TZOFFSETFROM:-0400
TZOFFSETTO:-0500
TZNAME:EST
DTSTART:20241103T060000
END:STANDARD
BEGIN:DAYLIGHT
TZOFFSETFROM:-0500
TZOFFSETTO:-0400
TZNAME:EDT
DTSTART:20250309T070000
END:DAYLIGHT
BEGIN:STANDARD
TZOFFSETFROM:-0400
TZOFFSETTO:-0500
TZNAME:EST
DTSTART:20251102T060000
END:STANDARD
BEGIN:DAYLIGHT
TZOFFSETFROM:-0500
TZOFFSETTO:-0400
TZNAME:EDT
DTSTART:20260308T070000
END:DAYLIGHT
BEGIN:STANDARD
TZOFFSETFROM:-0400
TZOFFSETTO:-0500
TZNAME:EST
DTSTART:20261101T060000
END:STANDARD
END:VTIMEZONE
BEGIN:VEVENT
DTSTART;TZID=America/New_York:20250704T200000
DTEND;TZID=America/New_York:20250704T230000
DTSTAMP:20260422T235225
CREATED:20250407T164136Z
LAST-MODIFIED:20250701T185813Z
UID:16315-1751659200-1751670000@canopyandtheroots.com
SUMMARY:The Time Machine 4TH OF JULY Edition\, 90s Dance Party in the Roots
DESCRIPTION:Purchase Tickets HERE. \nDance party themed with 90’s Hip Hop: we present The Time Machine. Join us with DJ Blacque Starr on Saturday June 28th as DJ BlacqueStarr will provide the soundtrack featuring the latest and greatest from the 80s\, the 90s (including the taking over for the 99) and 2000s. Come through in your freshest threads as we’ll have a photo booth available and a reward for the best-dressed and more. Doors at 7pm and party starts at 8pm. \n 
URL:https://canopyandtheroots.com/event/the-time-machine-first-friday-90s-dance-party-in-the-roots-2
LOCATION:the Roots
CATEGORIES:music
ATTACH;FMTTYPE=image/jpeg:https://canopyandtheroots.com/wp-content/uploads/2025/04/timemachinedanceparty-4th-1-scaled.jpg
END:VEVENT
BEGIN:VEVENT
DTSTART;TZID=America/New_York:20250705T080000
DTEND;TZID=America/New_York:20250705T170000
DTSTAMP:20260422T235225
CREATED:20250703T192439Z
LAST-MODIFIED:20250703T192440Z
UID:16375-1751702400-1751734800@canopyandtheroots.com
SUMMARY:LEMON EVERYTHING Day at C+R
DESCRIPTION:Celebrating one of summer’s most fresh of ingredients: LEMON! With baked goods and lemon-flavored treats of all kinds. One day only.
URL:https://canopyandtheroots.com/event/lemon-everything-day-at-cr
LOCATION:Canopy + the Roots
ATTACH;FMTTYPE=image/jpeg:https://canopyandtheroots.com/wp-content/uploads/2025/07/lemoneverything.jpg
END:VEVENT
BEGIN:VEVENT
DTSTART;TZID=America/New_York:20250706T110000
DTEND;TZID=America/New_York:20250706T170000
DTSTAMP:20260422T235225
CREATED:20250616T203328Z
LAST-MODIFIED:20250703T192105Z
UID:16355-1751799600-1751821200@canopyandtheroots.com
SUMMARY:Craft Pancake Pop-Up @ C+R
DESCRIPTION:Specialty SUNDAYS at Canopy and the Roots are something special and maybe a lil’ bit edgy as we try new flavors and ideas every month. This month’s is “Craft Pancake Pop-up” featuring batter options like gluten-free and whole grain PLUS creative candy or fruit mix-ins with handmade small batch Canopy syrups like Vanilla\, traditional brown sugar and maple\, or toasted marshmallow. Come out and try something new with your weekend and shop supporting local\, small\, and women-owned business.
URL:https://canopyandtheroots.com/event/craft-pancake-pop-up-cr
LOCATION:the Canopy
ATTACH;FMTTYPE=image/jpeg:https://canopyandtheroots.com/wp-content/uploads/2025/06/speacialtysundayspancakes-1.jpg
END:VEVENT
BEGIN:VEVENT
DTSTART;TZID=America/New_York:20250719T180000
DTEND;TZID=America/New_York:20250720T200000
DTSTAMP:20260422T235225
CREATED:20250704T161520Z
LAST-MODIFIED:20250715T184855Z
UID:16379-1752948000-1753041600@canopyandtheroots.com
SUMMARY:"Hawk and Wallace"\, a play by H Chapman : Adoption Charity Benefit
DESCRIPTION:TWO NIGHTS: SATURDAY AND SUNDAY AT 6:00PM\nPURCHASE SATURDAY TICKETS HERE. \nPURCHASE SUNDAY TICKETS HERE. \nJoin us in support of adoption funding and welcome the release of “Hawk and Wallace“\, a clean and family-friendly\, heart-touching and honest production written by Lumpkin County High School Theatre Director\, Hannah Chapman. \nHannah Chapman received her BA in music from NGCSU in 2009 & a certificate in theatre education at Columbus State in 2018. She is the Chorus and Theatre Director & Head Literary and One Act Play Coach at Lumpkin County High School. Hannah has performed with various theatre companies and directed numerous productions in the area. As a playwright\, she enjoys producing her original work and is thrilled to be debuting Hawk and Wallace. \n“This script has been in the making for a several years and is extremely special to me. Thank you to Hollie for the use of The Roots venue and to my lovely and talented cast for being so much fun and for rolling with the punches of my directing style!”\nALL TICKET PROCEEDS GO TO BENEFIT AN ADOPTION CHARITY TBA ON STAGE.
URL:https://canopyandtheroots.com/event/hawk-and-wallace-a-play-by-h-chapman-adoption-charity-benefit
LOCATION:the Roots
CATEGORIES:art,film screening,performing arts,Spoken Word-Poetry
ATTACH;FMTTYPE=image/png:https://canopyandtheroots.com/wp-content/uploads/2025/07/hawkandwallace_hchapman.png
END:VEVENT
END:VCALENDAR