BEGIN:VCALENDAR
VERSION:2.0
PRODID:-//Canopy + the Roots - ECPv6.15.20//NONSGML v1.0//EN
CALSCALE:GREGORIAN
METHOD:PUBLISH
X-WR-CALNAME:Canopy + the Roots
X-ORIGINAL-URL:https://canopyandtheroots.com
X-WR-CALDESC:Events for Canopy + the Roots
REFRESH-INTERVAL;VALUE=DURATION:PT1H
X-Robots-Tag:noindex
X-PUBLISHED-TTL:PT1H
BEGIN:VTIMEZONE
TZID:America/New_York
BEGIN:DAYLIGHT
TZOFFSETFROM:-0500
TZOFFSETTO:-0400
TZNAME:EDT
DTSTART:20240310T070000
END:DAYLIGHT
BEGIN:STANDARD
TZOFFSETFROM:-0400
TZOFFSETTO:-0500
TZNAME:EST
DTSTART:20241103T060000
END:STANDARD
BEGIN:DAYLIGHT
TZOFFSETFROM:-0500
TZOFFSETTO:-0400
TZNAME:EDT
DTSTART:20250309T070000
END:DAYLIGHT
BEGIN:STANDARD
TZOFFSETFROM:-0400
TZOFFSETTO:-0500
TZNAME:EST
DTSTART:20251102T060000
END:STANDARD
BEGIN:DAYLIGHT
TZOFFSETFROM:-0500
TZOFFSETTO:-0400
TZNAME:EDT
DTSTART:20260308T070000
END:DAYLIGHT
BEGIN:STANDARD
TZOFFSETFROM:-0400
TZOFFSETTO:-0500
TZNAME:EST
DTSTART:20261101T060000
END:STANDARD
END:VTIMEZONE
BEGIN:VEVENT
DTSTART;TZID=America/New_York:20250308T193000
DTEND;TZID=America/New_York:20250308T213000
DTSTAMP:20260423T055642
CREATED:20250225T180348Z
LAST-MODIFIED:20250225T181603Z
UID:16267-1741462200-1741469400@canopyandtheroots.com
SUMMARY:Roots in the Round\, multi-songwriter feature LIVE at Canopy + the Roots
DESCRIPTION:GET TICKETS HERE. \nRoots in the Round\, multi-songwriter feature LIVE at Canopy + the Roots \nMarch is Women’s History Month and we will be doing a special Queendom Edition of our Roots in the Round series. Join us on Saturday\, March 8th (fittingly International Women’s Day) as Erinn Driscoll\, Gabriella Delliponti\, and Jesse Williams will be coming together and sharing their stories & journeys behind their songs while celebrating Feminenergy & Sisterhood on our intimate space. Doors at 7:00pm. Show at 7:30pm. \nErinn Driscoll \nErinn Driscoll is a multifaceted performer who has been playing live music since 2021 in and around the metro Atlanta area. She performs at many types of venues including coffee houses\, vineyards\, and theaters. She grew up in a musical household\, her parents having met in a band and gigged throughout her childhood. She is a full time musical theatre student at Brenau University. Erinn is a multi-instrumentalist and songwriter who released her first song\, “November”\, on all streaming platforms in the autumn of 2023. Here’s to a lovely evening\, and enjoy the show! \nGabriella Delliponti \nReferred by her friends as an “off-brand Dua Lipa in a trucker hat\,” Delliponti is doing her best to bring a fresh and dynamic pop sound to an indie town saturated by jam bands. Inspired by icons like Chelsea Cutler\, Chappell Roan\, and Sabrina Carpenter\, Delliponti’s sound is full of catchy hooks\, funky bass lines\, and heart-felt lyricism. Backed by an all-star band made up of Jameson Tank on the drums\, Terry Cheek on guitar\, Cole Johnson on bass\, and Conner Ankerich on the keys\, Delliponti’s sets are a mix of covers\, catchy originals\, and\, if you’re lucky\, the occasional acoustic solo. Originally from New York\, Delliponti has played around Athens for the past 4 years\, and headlined/played at iconic venues such as the Georgia Theatre and 40 Watt with her various projects. Be sure to check out her most recent single\, “Picture Perfect\,” which is available on all platforms now & keep an eye open for her upcoming releases! \nJesse Williams \nSinger/songwriter/guitarist\, Jesse Williams\, is a mountain mama with grounded in Blues & Soul. Hailing from North Georgia with the deep belief that it’s best savored when simmered. Her melody medicine is an inivation of sultry vocals and earthy lyrics that explore Life’s many winding paths. These serenades are supported with guitar grooves and rhythms that play within the feeling of the Music. Honoring and offering the raw essence of Spirit as it moves listeners within.
URL:https://canopyandtheroots.com/event/roots-in-the-round-multi-songwriter-feature-live-at-canopy-the-roots-3
LOCATION:the Roots
CATEGORIES:music
ATTACH;FMTTYPE=image/jpeg:https://canopyandtheroots.com/wp-content/uploads/2025/02/Flyer1-copy-scaled.jpg
END:VEVENT
BEGIN:VEVENT
DTSTART;TZID=America/New_York:20250328T200000
DTEND;TZID=America/New_York:20250328T220000
DTSTAMP:20260423T055642
CREATED:20250305T172928Z
LAST-MODIFIED:20250328T163304Z
UID:16271-1743192000-1743199200@canopyandtheroots.com
SUMMARY:Die Laughing Comedy presents multi-comic standup LIVE at Canopy + the Roots
DESCRIPTION:Purchase tickets HERE. \nDahlonega\, GA! Die Laughing comedy comes to Canopy + The Roots showing off the best comedians from Atlanta. Don’t miss this once a month show hosted in the best speakeasy in north GA. Comedy shows feature comedians from The Laughing Skull Lounge. Punchline Comedy Club. Comedy Central. Don’t Tell Comedy. Late Night With Jimmy Fallon\, HBO Max\, Adult Swim\, Dry Bar +\, and more. \n  \n  \n 
URL:https://canopyandtheroots.com/event/die-laughing-comedy-presents-multi-comic-standup-live-at-canopy-the-roots-5
LOCATION:the Roots
CATEGORIES:comedy,music
ATTACH;FMTTYPE=image/jpeg:https://canopyandtheroots.com/wp-content/uploads/2022/05/Rootsexpansion_canopyandtheroots65lytlefoto-scaled.jpg
END:VEVENT
BEGIN:VEVENT
DTSTART;TZID=America/New_York:20250329T193000
DTEND;TZID=America/New_York:20250329T210000
DTSTAMP:20260423T055642
CREATED:20250318T173224Z
LAST-MODIFIED:20250319T153319Z
UID:16298-1743276600-1743282000@canopyandtheroots.com
SUMMARY:Marley Jayne w/ Halem Albright\, Indie-Americana LIVE in the Roots
DESCRIPTION:PURCHASE TICKETS HERE. \nNative to the hills of North Georgia\, Marley Jayne brings together a variety of sounds from the high\, lonesome fiddle to groovy\, feet-tapping jams. She is a graduate of East Tennessee State University with a bachelor’s in Bluegrass\, Old-Time\, & Roots Music Studies and aims to use her skills to create a unique musical experience. Marley Jayne also has a passion for teaching and collaborating\, you can catch her with the Halem Albright Band\, and other local groups. She is gearing up to release her first EP\, Transitions\, so be on the lookout for new music soon! \n“’Blue Moon Confessions’ completely took me by surprise….Definitely one of the best new albums I’ve heard in a long time.” -Music News Week \nHalem Albright (guitarist\, vocalist\, songwriter) was born and raised in Atlanta\, Ga.\, brought up among music lovers. He started playing guitar and writing music at 14 and went on to be involved in several bands\, one of which(“The Green Light Council”) was an Athens Flagpole award winner. He started working on his debut album “Don’t Listen To Me” in 2010 with some of Atlanta and Athens’ greatest producers and musicians(namely John Keane\, Jeff Mosier\, Duane Trucks\, Count M’butu\, and Ike Stubblefield). In 2013 “The Halem Albright Band” was formed and two years later\, The H.A.B. had the honor of winning the “AthFest People’s Choice Awards” to be a part of the Athens’ festival’s compilation album. The Halem Albright Band’s first album “Through Human Eyes” was released in August of 2017\, soon followed by the release of their first live album “Live At Vinyl”. In 2023 The H.A.B. signed a deal with Spectra Music Group for the release of “Blue Moon Confessions” in September of 2024\, receiving rave reviews. Throughout his music career\, Halem has shared bills with music veterans such as Col. Bruce Hampton\, Leftover Salmon\, TAUK\, & The Disco Biscuits. \nConnect authentically to the artists by hearing them in our “speakeasy”-styled intimate listening room\, the Roots\, located underground beneath the Canopy social house. Hear the stories behind the songs as the artist(s) share their inspiration and even their heartaches. Doors open at 7:00pm; show starts at 7:30pm; VIP lounge with couches\, booths\, and tables are available. Reserve by emailing events@canopyandtheroots.com . Upon availability\, locally-sourced craft beer and wine may be available for purchase. \n  \n 
URL:https://canopyandtheroots.com/event/marley-jayne-local-bluegrass-old-time-boot-stompin-live-in-the-roots
LOCATION:the Roots
CATEGORIES:music
ATTACH;FMTTYPE=image/jpeg:https://canopyandtheroots.com/wp-content/uploads/2025/03/marleyjayne-1.jpg
END:VEVENT
END:VCALENDAR