BEGIN:VCALENDAR
VERSION:2.0
PRODID:-//Canopy + the Roots - ECPv6.15.20//NONSGML v1.0//EN
CALSCALE:GREGORIAN
METHOD:PUBLISH
X-ORIGINAL-URL:https://canopyandtheroots.com
X-WR-CALDESC:Events for Canopy + the Roots
REFRESH-INTERVAL;VALUE=DURATION:PT1H
X-Robots-Tag:noindex
X-PUBLISHED-TTL:PT1H
BEGIN:VTIMEZONE
TZID:America/New_York
BEGIN:DAYLIGHT
TZOFFSETFROM:-0500
TZOFFSETTO:-0400
TZNAME:EDT
DTSTART:20230312T070000
END:DAYLIGHT
BEGIN:STANDARD
TZOFFSETFROM:-0400
TZOFFSETTO:-0500
TZNAME:EST
DTSTART:20231105T060000
END:STANDARD
BEGIN:DAYLIGHT
TZOFFSETFROM:-0500
TZOFFSETTO:-0400
TZNAME:EDT
DTSTART:20240310T070000
END:DAYLIGHT
BEGIN:STANDARD
TZOFFSETFROM:-0400
TZOFFSETTO:-0500
TZNAME:EST
DTSTART:20241103T060000
END:STANDARD
BEGIN:DAYLIGHT
TZOFFSETFROM:-0500
TZOFFSETTO:-0400
TZNAME:EDT
DTSTART:20250309T070000
END:DAYLIGHT
BEGIN:STANDARD
TZOFFSETFROM:-0400
TZOFFSETTO:-0500
TZNAME:EST
DTSTART:20251102T060000
END:STANDARD
END:VTIMEZONE
BEGIN:VEVENT
DTSTART;TZID=America/New_York:20240802T200000
DTEND;TZID=America/New_York:20240802T220000
DTSTAMP:20260423T163623
CREATED:20240802T201210Z
LAST-MODIFIED:20240802T201302Z
UID:16054-1722628800-1722636000@canopyandtheroots.com
SUMMARY:Comedy Competition presented by Die Laughing Comedy
DESCRIPTION:
URL:https://canopyandtheroots.com/event/comedy-competition-presented-by-die-laughing-comedy
LOCATION:the Roots
CATEGORIES:comedy
ATTACH;FMTTYPE=image/jpeg:https://canopyandtheroots.com/wp-content/uploads/2024/08/Photo-Aug-02-2024-4-08-46-PM.jpg
END:VEVENT
BEGIN:VEVENT
DTSTART;TZID=America/New_York:20240810T193000
DTEND;TZID=America/New_York:20240810T213000
DTSTAMP:20260423T163623
CREATED:20240716T221027Z
LAST-MODIFIED:20240725T194601Z
UID:16003-1723318200-1723325400@canopyandtheroots.com
SUMMARY:Canon Tyler | Hunter Blalock | Tim Moore\, Triple Americana Showcase LIVE in the Roots
DESCRIPTION:Purchase tickets HERE. \nA North Georgia ‘Singer-Songwriter Showcase’ featuring three Folk\, Country\, Bluegrass & Americana influenced songwriters! Experience a performance in a venue like no other in our underground “speakeasy” listening room. Turn off your cell phones and be present to hear the stories behind the songs and writing of original artists. Limited seating. Craft beer\, craft cocktails and wine available. HEPPA air filters and sanitizing stations throughout the building.\n \n\n\nCANON TYLER \nCanon Tyler is a singer-songwriter from north Georgia. With sonic elements of Bluegrass and contemporary acoustic music\, Tyler’s lyrics blend the storytelling aspects of traditional American folk and Laurel Canyon era singer-songwriters. These elements create a sound that is fresh and familiar to fans of roots music. \nFind more on Canon at the links below: \ncanontyler.com \nfacebook.com/canontylermusic \ninstagram.com/canontylermusic \nTIM MOORE \nTim Moore is a songwriter/multi-instrumentalist from Northeast Georgia. Tim began his career in Athens\, GA\, where he quickly became a must-see act in the local scene. Since those days Tim has moved to mountains where he spends his time writing & taking advantage of mountain life when he isn’t touring. \nFind more on Tim at the links below: \nfacebook.com/MusicTimMoore/ \ninstagram.com/tim_moore_music/ \nHUNTER BLALOCK \nHunter Blalock is a North-West Georgia Songwriter. Never fearing uncomfortable subjects\, Hunter presents an uncensored view of the world & himself. With influences ranging from Tyler Childers & American Aquarium to The Band & Townes Van Zant\, Hunter’s writing blends Country\, Folk\, & Bluegrass to create a unique Americana sound. \nFind more on Hunter at the links below: \nhunterblalockmusic.com \nfacebook.com/hunterblalockofficial \ninstagram.com/hunterwblalock/ \n\n\n\n 
URL:https://canopyandtheroots.com/event/canon-tyler-hunter-blalock-tim-moore-triple-americana-showcase-live-in-the-roots-2
LOCATION:the Roots
CATEGORIES:music
ATTACH;FMTTYPE=image/jpeg:https://canopyandtheroots.com/wp-content/uploads/2024/07/IMG_4755.jpg
END:VEVENT
BEGIN:VEVENT
DTSTART;TZID=America/New_York:20240812T080000
DTEND;TZID=America/New_York:20240816T170000
DTSTAMP:20260423T163623
CREATED:20240802T191355Z
LAST-MODIFIED:20240802T191356Z
UID:16042-1723449600-1723827600@canopyandtheroots.com
SUMMARY:Back to School with C+R
DESCRIPTION:Enjoy a 20% discount off your beverages or show tickets by showing your student ID.
URL:https://canopyandtheroots.com/event/back-to-school-with-cr
LOCATION:Canopy + the Roots
CATEGORIES:comedy,music,tasting
ATTACH;FMTTYPE=image/png:https://canopyandtheroots.com/wp-content/uploads/2024/07/Social-House-1.png
END:VEVENT
BEGIN:VEVENT
DTSTART;TZID=America/New_York:20240823T200000
DTEND;TZID=America/New_York:20240823T220000
DTSTAMP:20260423T163623
CREATED:20240802T190501Z
LAST-MODIFIED:20240802T200209Z
UID:16039-1724443200-1724450400@canopyandtheroots.com
SUMMARY:Stand-Up Comedy presented by Die Laughing Comedy
DESCRIPTION:
URL:https://canopyandtheroots.com/event/stand-up-comedy-headliner-show-with-die-laughing-comedy
LOCATION:the Roots
CATEGORIES:comedy
ATTACH;FMTTYPE=image/png:https://canopyandtheroots.com/wp-content/uploads/2024/08/Aug-23rd.png
END:VEVENT
BEGIN:VEVENT
DTSTART;TZID=America/New_York:20240824T190000
DTEND;TZID=America/New_York:20240824T210000
DTSTAMP:20260423T163623
CREATED:20240806T161548Z
LAST-MODIFIED:20240808T173100Z
UID:16057-1724526000-1724533200@canopyandtheroots.com
SUMMARY:SERAPHYM & Mile From Meadow\, alternative music LIVE in the Roots
DESCRIPTION:Purchase tickets HERE. \n\n\n\n\n\nSeraphym – is an alternative 90’s-inspired band from Snellville\, GA known for emotional lyrics & melodies\, specializing in playing originals\, overall sound driven by low ends & haunting melodies that produce a unique sound and creating a great atmosphere for any and all stages. \n\nMile From Meadow are a three-piece band from Monroe\, Georgia\, who enjoy writing and performing original songs with an emphasis on lyrical hooks and instrumental tone. We also perform cover songs that compliment our sound.\n\n\n\n\n 
URL:https://canopyandtheroots.com/event/seraphym-mile-from-meadow-alternative-metal-live-in-the-roots
LOCATION:the Roots
CATEGORIES:music
ATTACH;FMTTYPE=image/jpeg:https://canopyandtheroots.com/wp-content/uploads/2024/08/seraphym_august24.jpg
END:VEVENT
END:VCALENDAR