BEGIN:VCALENDAR
VERSION:2.0
PRODID:-//Canopy + the Roots - ECPv6.15.20//NONSGML v1.0//EN
CALSCALE:GREGORIAN
METHOD:PUBLISH
X-WR-CALNAME:Canopy + the Roots
X-ORIGINAL-URL:https://canopyandtheroots.com
X-WR-CALDESC:Events for Canopy + the Roots
REFRESH-INTERVAL;VALUE=DURATION:PT1H
X-Robots-Tag:noindex
X-PUBLISHED-TTL:PT1H
BEGIN:VTIMEZONE
TZID:America/New_York
BEGIN:DAYLIGHT
TZOFFSETFROM:-0500
TZOFFSETTO:-0400
TZNAME:EDT
DTSTART:20230312T070000
END:DAYLIGHT
BEGIN:STANDARD
TZOFFSETFROM:-0400
TZOFFSETTO:-0500
TZNAME:EST
DTSTART:20231105T060000
END:STANDARD
BEGIN:DAYLIGHT
TZOFFSETFROM:-0500
TZOFFSETTO:-0400
TZNAME:EDT
DTSTART:20240310T070000
END:DAYLIGHT
BEGIN:STANDARD
TZOFFSETFROM:-0400
TZOFFSETTO:-0500
TZNAME:EST
DTSTART:20241103T060000
END:STANDARD
BEGIN:DAYLIGHT
TZOFFSETFROM:-0500
TZOFFSETTO:-0400
TZNAME:EDT
DTSTART:20250309T070000
END:DAYLIGHT
BEGIN:STANDARD
TZOFFSETFROM:-0400
TZOFFSETTO:-0500
TZNAME:EST
DTSTART:20251102T060000
END:STANDARD
END:VTIMEZONE
BEGIN:VEVENT
DTSTART;TZID=America/New_York:20240608T190000
DTEND;TZID=America/New_York:20240608T210000
DTSTAMP:20260423T194205
CREATED:20240514T000107Z
LAST-MODIFIED:20240514T000553Z
UID:15973-1717873200-1717880400@canopyandtheroots.com
SUMMARY:Kimberly Morgan York: Country Singer-Songwriter LIVE in the Roots
DESCRIPTION:Purchase tickets HERE. \n\n\nBorn in Southern Kentucky\, Kimberly Morgan York brings her Appalachian roots to her country\, soul felt and honest songs. Now hailing from Athens\, GA\, Kimberly brings along with her a bevy of seasoned musicians and a collection of songs that will have you dancin\, laughin\, cryin and shoutin! \n\n\nIntimately connect to both artist and venue in our lush\, speakeasy-style\, 50 seat listening room. Hear the stories behind the all-original songs as the artist(s) share their inspiration and even their heartaches. \nDoors open at 7:00pm; show starts at 7:30pm; VIP lounge or balcony seating with table service available by contacting events@canopyandtheroots.com .
URL:https://canopyandtheroots.com/event/kimberly-morgan-york-country-singer-songwriter-live-in-the-roots
LOCATION:the Roots
CATEGORIES:music
ATTACH;FMTTYPE=image/jpeg:https://canopyandtheroots.com/wp-content/uploads/2024/05/kimberlymorganyork.jpg
END:VEVENT
BEGIN:VEVENT
DTSTART;TZID=America/New_York:20240622T190000
DTEND;TZID=America/New_York:20240622T210000
DTSTAMP:20260423T194205
CREATED:20240610T161141Z
LAST-MODIFIED:20240610T191413Z
UID:15978-1719082800-1719090000@canopyandtheroots.com
SUMMARY:a Southern Gothic Romance with JAYNA JENNINGS live in the Roots
DESCRIPTION:Purchase tickets HERE. \n\n\n\n\n\nOnline distributers and social media make it easy to release music essentially from an iPhone\, and seeking success in the music industry is not an uncommon dream. As singles become a driving force\, Jayna Jennings took a risk and released a full length\, completely immersive\, visual album called Southern Gothic Romance\, with music videos for each song.At the beginning of 2023\, Jennings recorded the album a couple hours at a time between jobs\, and only had 1\,000 followers\, but after she started releasing singles in anticipation of the release\, her following grew to 60\,000 in a matter of months.The release helped Jennings reach the iconic circle at the Grand Ole Opry house as her single 10:43 was awarded Song of the Year at the Josie Music Awards. She accepted the honor of Vocalist of the Year that same night.Jennings has performed in incredible venues across the south east such as AJ’s Good Time Bar\, The Velvet Underground at the Hard Rock Cafe\, the Bijou Theater\, Eddie’s Attic\, Museum of Appalachia\, Canyon Center Amphitheater\, Rhea County Courthouse\, and more. Jennings and her band headlined Pigs and Peaches adjacent Charley Reynolds and Drake Milligan on the Luzianne Tea main stage.For her fans\, her song 10:43 is a beloved song\, and is quickly becoming a favorite amongst the radio stations that have added the song to airplay rotation. She recently released a music video filmed at the Tennessee Valley Railroad Museum. The video has received three nominations for the JMAs this year. \nwww.jaynajennings.com \n \nhttps://boldjourney.com/news/meet-jayna-jennings/ \nhttps://canvasrebel.com/meet-jayna-jennings/ \nhttps://shoutoutatlanta.com/meet-jayna-jennings-musician-singer-songwriter-designer-mental-health-advocate-writer/ \nMy nominations this year at the Josie Music Awards are- \nFolk/Americana Artist of the Year\, Vocalist of the Year\, Songwriter of the Year and my original song 10:43 is nominated for Song of the Year. Two of my unreleased songs are being recognized in the Songwriter Achievement category. \nPress Accolade \n“A true artist\, Jennings continues to use a minimalistic approach to music\, where there are no tricks or tweaks to deceive the ears\, just really\, really\, honest lyrics\,” KlefNotes \n\n\n\n\n\n 
URL:https://canopyandtheroots.com/event/a-southern-gothic-romance-with-jayna-jennings-live-in-the-roots-2
LOCATION:the Roots
CATEGORIES:music
ATTACH;FMTTYPE=image/jpeg:https://canopyandtheroots.com/wp-content/uploads/2024/06/jaynajennings_canopyandtheroots.jpg
END:VEVENT
END:VCALENDAR