BEGIN:VCALENDAR
VERSION:2.0
PRODID:-//Canopy + the Roots - ECPv6.15.20//NONSGML v1.0//EN
CALSCALE:GREGORIAN
METHOD:PUBLISH
X-ORIGINAL-URL:https://canopyandtheroots.com
X-WR-CALDESC:Events for Canopy + the Roots
REFRESH-INTERVAL;VALUE=DURATION:PT1H
X-Robots-Tag:noindex
X-PUBLISHED-TTL:PT1H
BEGIN:VTIMEZONE
TZID:America/New_York
BEGIN:DAYLIGHT
TZOFFSETFROM:-0500
TZOFFSETTO:-0400
TZNAME:EDT
DTSTART:20230312T070000
END:DAYLIGHT
BEGIN:STANDARD
TZOFFSETFROM:-0400
TZOFFSETTO:-0500
TZNAME:EST
DTSTART:20231105T060000
END:STANDARD
BEGIN:DAYLIGHT
TZOFFSETFROM:-0500
TZOFFSETTO:-0400
TZNAME:EDT
DTSTART:20240310T070000
END:DAYLIGHT
BEGIN:STANDARD
TZOFFSETFROM:-0400
TZOFFSETTO:-0500
TZNAME:EST
DTSTART:20241103T060000
END:STANDARD
BEGIN:DAYLIGHT
TZOFFSETFROM:-0500
TZOFFSETTO:-0400
TZNAME:EDT
DTSTART:20250309T070000
END:DAYLIGHT
BEGIN:STANDARD
TZOFFSETFROM:-0400
TZOFFSETTO:-0500
TZNAME:EST
DTSTART:20251102T060000
END:STANDARD
END:VTIMEZONE
BEGIN:VEVENT
DTSTART;TZID=America/New_York:20240503T200000
DTEND;TZID=America/New_York:20240503T220000
DTSTAMP:20260423T211819
CREATED:20240416T150026Z
LAST-MODIFIED:20240416T150026Z
UID:15953-1714766400-1714773600@canopyandtheroots.com
SUMMARY:Comedy OPEN MIC w/ host Ryan Schrilla and C+R
DESCRIPTION:Purchase Tickets HERE. \nThe doors\, sign-up and speakeasy open at 8:00PM with the first monologue from host\, Ryan\, beginning at 8:30PM. Experience a performance in a venue like no other in our underground “speakeasy” listening room. Turn off your cell phones and be present to hear the stories behind the songs and writing of original artists. Limited seating. Craft beer and wine available. HEPPA air filters and sanitizing stations throughout the building.
URL:https://canopyandtheroots.com/event/comedy-open-mic-w-host-ryan-schrilla-and-cr
LOCATION:the Roots
CATEGORIES:comedy
END:VEVENT
BEGIN:VEVENT
DTSTART;TZID=America/New_York:20240516T193000
DTEND;TZID=America/New_York:20240516T210000
DTSTAMP:20260423T211819
CREATED:20240416T154001Z
LAST-MODIFIED:20240417T151551Z
UID:15958-1715887800-1715893200@canopyandtheroots.com
SUMMARY:Max Gomez: cosmic country-folk from New Mexico LIVE in the Roots
DESCRIPTION:Purchase tickets HERE. \nSinger/Songwriter Max Gomez grew up in Taos\, New Mexico\, where he fell under the influence of country blues early on and developed a songwriting style that was uniquely his. He received critical acclaim upon the release of his debut album Rule The World (2013\, New West Records); and hissubsequent EP\, Me and Joe (2017\, Brigadoon Records)\, contained a freshly minted classic\, “Make It Me\,”which has gained over 4 million listeners on Spotify alone. As a budding performer\, Max apprenticed in the rarefied musical micro-climate of northern New Mexico\,where troubadours like Michael Martin Murphey and Ray Wylie Hubbard helped foster a Western folk sound both cosmic and country.He has shared billing on hundreds of stages with stalwarts of the genre like James McMurtry\, BuddyMiller\, John Hiatt\, Patty Griffin\, Tommy James & The Shondells\, Jeff Beck\, and Johnny Depp.Judging bythe company he keeps\, Gomez is poisedto emerge as a prominent voice of Americana’s next generation.The forthcoming album\, Memory Mountain\, will release this summer. \nIntimately connect to both artist and venue in our lush\, speakeasy-style\, 50 seat listening room. Hear the stories behind the all-original songs as the artist(s) share their inspiration and even their heartaches. \nDoors open at 7:00pm; show starts at 7:30pm; VIP lounge or balcony seating with table service available by contacting events@canopyandtheroots.com . Locally-sourced craft beer and wine available for purchase.
URL:https://canopyandtheroots.com/event/max-gomez-cosmic-country-folk-from-new-mexico-live-in-the-roots
LOCATION:the Roots
CATEGORIES:music
ATTACH;FMTTYPE=image/jpeg:https://canopyandtheroots.com/wp-content/uploads/2024/04/maxgomez_may16-2.jpg
END:VEVENT
BEGIN:VEVENT
DTSTART;TZID=America/New_York:20240518T200000
DTEND;TZID=America/New_York:20240518T213000
DTSTAMP:20260423T211819
CREATED:20240416T143558Z
LAST-MODIFIED:20240416T143648Z
UID:15950-1716062400-1716067800@canopyandtheroots.com
SUMMARY:Hughes Taylor: critically-acclaimed\, blues-rock LIVE in the Roots
DESCRIPTION:Purchase tickets HERE. \nAn old soul hailing from Macon Georgia USA\, Hughes Taylor was immediately drawn to the blues when he first picked up the guitar. Two decades later\, he’s become an acclaimed guitarist and songwriter playing a fiery brand of blues-rock whose power trio lineage stretches back to Stevie Ray Vaughan\, Cream and Jimi Hendrix. \nHis latest studio album\, Modern Nostalgia\, is a showcase not only of his signature style as a guitarist but of his overall evolution as a musician\, songwriter\, and producer. Written during the pandemic and recorded at the legendary Capricorn Sound Studios\, it’s a sweet mix of blues\, blues-rock\, and southern rock; a modern successor to the great music that put Capricorn on the map many years ago. Modern Nostalgia was released on CD in July 2021 and has been on the US Blues-Rock Top 50 Album Chart every week for the past 20 months. A limited-edition double vinyl edition was released in June\, 2022. \nFrom age 13\, locked away in his bedroom\, Hughes practiced for hours on end playing along with his favorite guitar heroes. By 14 he was writing his own material and recording demos in his parents’ basement\, while simultaneously developing his live act by playing anywhere anytime with anyone. He was performing professionally before he could legally drive\, and by the time he started college\, creating and performing music was his primary source of income. \nHe self-released his first full-length album of original songs\, Hear My Melody\, in the spring of 2016. Restless followed in early 2018\, sandwiched between graduating with honors in marketing from University of North Georgia and marrying the love of his life. By the summer of 2019\, The Hughes Taylor Band’s sound began to coalesce\, combining his spin on the blues-rock power trio format with the inescapable influence of his hometown heroes\, the Allman Brothers. Good Blues\, Fast\, an album of classics lovingly arranged and interpreted by Taylor was his first release to gain acclaim beyond Georgia and paved the way for the next chapter in his music journey. \nIn January of 2020\, Hughes and his band toured the United Kingdom supporting the Heather Findlay Band. Gaining immediate popularity and positive music press reviews\, the trio returned stateside just as the pandemic halted all tours and local performances. Fortunately\, the last few shows of the tour were recorded\, affording enough good material for the Live in the UK album he released in early 2021. \nIntimately connect to both artist and venue in our lush\, speakeasy-style\, 50 seat listening room. Hear the stories behind the all-original songs as the artist(s) share their inspiration and even their heartaches. \nDoors open at 7:30pm; show starts at 8:00pm; VIP lounge or balcony seating with table service available by contacting events@canopyandtheroots.com . Locally-sourced craft beer and wine available for purchase.
URL:https://canopyandtheroots.com/event/hughes-taylor-critically-acclaimed-blues-rock-live-in-the-roots
LOCATION:the Roots
CATEGORIES:music
ATTACH;FMTTYPE=image/jpeg:https://canopyandtheroots.com/wp-content/uploads/2024/04/dark-roast_hughestaylor_may182024-scaled.jpg
END:VEVENT
BEGIN:VEVENT
DTSTART;TZID=America/New_York:20240524T200000
DTEND;TZID=America/New_York:20240524T220000
DTSTAMP:20260423T211819
CREATED:20240513T142500Z
LAST-MODIFIED:20240513T143515Z
UID:15969-1716580800-1716588000@canopyandtheroots.com
SUMMARY:Nick Murphy\, comedian presented by Die Laughing LIVE in the Roots
DESCRIPTION:Purchase tickets HERE. \nIntimately connect to both artist and venue in our lush\, speakeasy-style\, 50 seat listening room. \nDoors open at 8:00pm; show starts at 8:30pm; VIP lounge or balcony seating with table service available by contacting events@canopyandtheroots.com .
URL:https://canopyandtheroots.com/event/nick-murphy-comedian-presented-by-die-laughing-live-in-the-roots
LOCATION:the Roots
CATEGORIES:music
ATTACH;FMTTYPE=image/jpeg:https://canopyandtheroots.com/wp-content/uploads/2024/05/dielaughing_nick.jpg
END:VEVENT
BEGIN:VEVENT
DTSTART;TZID=America/New_York:20240525T193000
DTEND;TZID=America/New_York:20240525T210000
DTSTAMP:20260423T211819
CREATED:20240513T133238Z
LAST-MODIFIED:20240513T133238Z
UID:15963-1716665400-1716670800@canopyandtheroots.com
SUMMARY:Perfect Animal with Atticus Roness LIVE in the Roots
DESCRIPTION:Purchase tickets HERE. \nPerfect Animal is an Atlanta-based indie rock band embracing both acoustic and electric music. Currently promoting songs off their recently-released debut LP\, “Soft Applause\,” Perfect Animal can suit any environment and always make an emotional impact on the listener. \nAtticus Roness is a melodic tour dé force\, finding success throughout his stints in the Atlanta underground scene. In this time\, Roness has proved his songwriting prowess\, along with his electric stage presence. Fresh off the heels of his well-received debut album ‘Square One’\, Atticus Roness looks to woo rock critics and casuals alike\, with his upcoming double single ‘The Man With No Name / Napa Valley Suicide”. \nIntimately connect to both artist and venue in our lush\, speakeasy-style\, 50 seat listening room. Hear the stories behind the all-original songs as the artist(s) share their inspiration and even their heartaches. \nDoors open at 7:00pm; show starts at 7:30pm; VIP lounge or balcony seating with table service available by contacting events@canopyandtheroots.com .
URL:https://canopyandtheroots.com/event/perfect-animal
LOCATION:the Roots
CATEGORIES:music
ATTACH;FMTTYPE=image/jpeg:https://canopyandtheroots.com/wp-content/uploads/2024/05/perfectanimal.jpg
END:VEVENT
BEGIN:VEVENT
DTSTART;TZID=America/New_York:20240527T180000
DTEND;TZID=America/New_York:20240527T200000
DTSTAMP:20260423T211819
CREATED:20240513T134523Z
LAST-MODIFIED:20240515T163850Z
UID:15966-1716832800-1716840000@canopyandtheroots.com
SUMMARY:James Corbin with guest Stuart Oliver: Country-Americana LIVE in the Roots
DESCRIPTION:Purchase tickets HERE. \n\n\nJames Corbin is a combat veteran\, storyteller\, and prolific songwriter. He released four albums “Dichotomy\,” “Dahlonega Days\,” and “Live From the Hoag Auditorium” while in college. Shortly after 9/11 and graduation\, he went into the U.S. Army as where he deployed to Iraq three times. Those combat tours were the impetus behind his record\, “From Baghdad to Bisbee” which comprised songs he wrote while there. James’ new record\, “Where the Roots Raise the Road” will be released in conjunction with his show at Canopy + the Roots on May 27th\, 2024. Accompanying James on stage will be the incredibly talented musician\, songwriter\, and producer Stuart Oliver. Originally from Dahlonega\, Stuart now resides in Tucson\, Arizona where he writes\, produces\, performs\, and teaches music professionally. \n“James is a captivating performer. He is a master at engaging a crowd and drawing them in. His songs move you to tears. They also make you laugh hysterically. Most importantly\, they always make you feel more human and understood. A live show with James is a true experience into the mind\, heart\, and humor of a truly gifted storyteller.” Molly Kummerle\, critically acclaimed DJ\, vocalist\, and jazz artist. \n\n\nIntimately connect to both artist and venue in our lush\, speakeasy-style\, 50 seat listening room. Hear the stories behind the all-original songs as the artist(s) share their inspiration and even their heartaches. \nDoors open at 6:00pm; show starts at 6:30pm; VIP lounge or balcony seating with table service available by contacting events@canopyandtheroots.com .
URL:https://canopyandtheroots.com/event/james-corbin-with-guest-stuart-oliver-country-americana-live-in-the-roots
LOCATION:the Roots
CATEGORIES:music
ATTACH;FMTTYPE=image/jpeg:https://canopyandtheroots.com/wp-content/uploads/2024/05/jcorbinmay27-scaled.jpg
END:VEVENT
END:VCALENDAR