BEGIN:VCALENDAR
VERSION:2.0
PRODID:-//Canopy + the Roots - ECPv6.15.20//NONSGML v1.0//EN
CALSCALE:GREGORIAN
METHOD:PUBLISH
X-WR-CALNAME:Canopy + the Roots
X-ORIGINAL-URL:https://canopyandtheroots.com
X-WR-CALDESC:Events for Canopy + the Roots
REFRESH-INTERVAL;VALUE=DURATION:PT1H
X-Robots-Tag:noindex
X-PUBLISHED-TTL:PT1H
BEGIN:VTIMEZONE
TZID:America/New_York
BEGIN:DAYLIGHT
TZOFFSETFROM:-0500
TZOFFSETTO:-0400
TZNAME:EDT
DTSTART:20230312T070000
END:DAYLIGHT
BEGIN:STANDARD
TZOFFSETFROM:-0400
TZOFFSETTO:-0500
TZNAME:EST
DTSTART:20231105T060000
END:STANDARD
BEGIN:DAYLIGHT
TZOFFSETFROM:-0500
TZOFFSETTO:-0400
TZNAME:EDT
DTSTART:20240310T070000
END:DAYLIGHT
BEGIN:STANDARD
TZOFFSETFROM:-0400
TZOFFSETTO:-0500
TZNAME:EST
DTSTART:20241103T060000
END:STANDARD
BEGIN:DAYLIGHT
TZOFFSETFROM:-0500
TZOFFSETTO:-0400
TZNAME:EDT
DTSTART:20250309T070000
END:DAYLIGHT
BEGIN:STANDARD
TZOFFSETFROM:-0400
TZOFFSETTO:-0500
TZNAME:EST
DTSTART:20251102T060000
END:STANDARD
END:VTIMEZONE
BEGIN:VEVENT
DTSTART;TZID=America/New_York:20240406T193000
DTEND;TZID=America/New_York:20240406T210000
DTSTAMP:20260423T224627
CREATED:20240306T185830Z
LAST-MODIFIED:20240308T162600Z
UID:15917-1712431800-1712437200@canopyandtheroots.com
SUMMARY:GA-Grown Country Songwriter\, Matt Rogers LIVE at Canopy and the Roots
DESCRIPTION:Purchase Tickets HERE. \nMatt Rogers has a powerful\, gritty\, and raw voice that lends a unique emotional texture to his music. His approach to songwriting adds a genuine quality to his lyrics that center around life\, love\, and tradition. His “country-at-heart\, blues-in-his-soul” sound is captivating and rare. \nA Georgia native\, Rogers’ musical interest blossomed during his days in middle school when he got his first guitar. Performing in church and events throughout his school years\, his love for songwriting began to grow while at college. Influenced by multiple genres\, Matt put together his first band in his early 20’s. Leaving a position in the medical field\, Matt made his move to Nashville in 2015 working as a full-time songwriter and touring artist. \nMatt is a seasoned songsmith who currently boasts 17 songwriting awards that serve as a testament to his signature hard-hitting lyricism electrified by his husky\, rich vocals; his song\, “Coal\,” has won several songwriting awards from NSAI/CMT\, Music City Songstar\, American Songwriter\, Songwriting University\, and Mid-Atlantic Song Contest. He achieved the top award from Music City SongStar for his song\, “She Was Everything\,” as well as a finalist slot in the USA Songwriting Competition. Nashville Songwriters Association International (NSAI) and CMT selected his song “I Was Raised” for a songwriting achievement award\, and it went on to be selected by NSAI as a Top 40 song.  \nAs an artist\, Matt’s live show has earned him the opportunity to share the stage with some of country music’s biggest acts\, including Chris Stapleton\, Jimmie Allen\, Walker Hayes\, Clint Black\, Clay Walker\, Jake Owen\, Cole Swindell\, LOCASH\, Brothers Osborne\, Chris Janson\, and Michael Ray. \nMatt has released four new singles in 2023 and has 6 more scheduled to be released during 2024. For more information\, visit https://mattrogerscountry.com. \nIntimately connect to both artist and venue in our lush\, speakeasy-style\, 100 seat listening room. Hear the stories behind the all-original songs as the artist(s) share their inspiration and even their heartaches. \nDoors open at 7:00pm; show starts at 7:30pm; VIP seating with table service available for add-on; table seating with limited availability on main floor or balcony. Locally-sourced craft beer and wine available for purchase.
URL:https://canopyandtheroots.com/event/ga-grown-country-songwriter-matt-rogers-live-at-canopy-and-the-roots-2
LOCATION:the Roots
CATEGORIES:music
ATTACH;FMTTYPE=image/jpeg:https://canopyandtheroots.com/wp-content/uploads/2024/03/mattrogers04_06_24_canopyandtheroots-scaled.jpg
END:VEVENT
BEGIN:VEVENT
DTSTART;TZID=America/New_York:20240413T160000
DTEND;TZID=America/New_York:20240413T235500
DTSTAMP:20260423T224627
CREATED:20240308T175809Z
LAST-MODIFIED:20240405T151813Z
UID:15921-1713024000-1713052500@canopyandtheroots.com
SUMMARY:ROOTS FEST :: inspired by the grunge genre\, C+R's music Festival
DESCRIPTION:Purchase tickets HERE. \nThe Peach state is rich in music culture\, and Georgia’s talent runs deep. This is a celebration of that exact culture – a southernly-located pulse in music’s roots. ROOTS fest ’22 is inspired by the grunge genre; come hear a favorite artist or discover a new favorite. All original music\, all Georgia-based artists. \n• food carts \n• craft beer & wine \n• merch mart \n• specialty cocktails and “mocktails” \n• indoor & outdoor lounge space \nFirst band plays at 4:00pm. \n \n  \n 
URL:https://canopyandtheroots.com/event/roots-fest-inspired-by-the-grunge-genre-crs-music-festival
LOCATION:the Roots
CATEGORIES:music
ATTACH;FMTTYPE=image/jpeg:https://canopyandtheroots.com/wp-content/uploads/2024/03/rootsfest24-1-scaled.jpg
END:VEVENT
BEGIN:VEVENT
DTSTART;TZID=America/New_York:20240427T160000
DTEND;TZID=America/New_York:20240427T230000
DTSTAMP:20260423T224627
CREATED:20240403T184934Z
LAST-MODIFIED:20240403T195558Z
UID:15940-1714233600-1714258800@canopyandtheroots.com
SUMMARY:Festival of Sisterhood :: a celebration of music\, art\, and business
DESCRIPTION:Get TICKETS here. \nFestival of Sisterhood is an endeavor to celebrate Feminenergy and Sisterhood of ALL women through the avenues of music\, art\, business\, education and community built on the five pillars of wisdom\, intuition\, empowerment\, authenticity\, and inclusivity. And to commemorate\, we will be releasing merch for those to rep during this Spring’s festival and beyond as Feminenergy happens on the daily. Join us for a multi-artist music and comedy lineup\, happy hour mixer\, women-owned business vendor market\, art exhibition\, and more! \nWhat does it mean to be one of Feminenergy? It is to be one of substance\, deeper than the beauty of what someone may see on the surface of the skin. Regardless of body type or color\, the beauty really shines through in the intelligence\, the passions\, and ambitions. A tiara or ‘S’ on the chest isn’t necessary to prove how strong she is or to define her as a leader. She is one who believes in Love\, but has Love for the self first\, deserves respect of the Heart\, Mind\, Body\, and Soul\, and won’t allow anyone to play games with the Heart\, nor allow deception of the Soul. She is not perfect or flawless\, but it’s her imperfections that make her all the more unique and authentic. Unconditional Love to the core\, Trust\, Respect\, Loyalty and Equality are the most important to her. One of substance\, one who continues to break down walls\, and one who strives to defy stereotypes. She is strong and she is beautiful on the surface but even more gorgeous and stronger in the workings of her Mind\, Heart and Soul. She is of Feminenergy.
URL:https://canopyandtheroots.com/event/festival-of-sisterhood-a-celebration-of-music-art-and-business-2
LOCATION:the Roots
CATEGORIES:comedy,music,Spoken Word-Poetry
ATTACH;FMTTYPE=image/jpeg:https://canopyandtheroots.com/wp-content/uploads/2024/04/11-2_low.jpg
END:VEVENT
END:VCALENDAR