BEGIN:VCALENDAR
VERSION:2.0
PRODID:-//Canopy + the Roots - ECPv6.15.20//NONSGML v1.0//EN
CALSCALE:GREGORIAN
METHOD:PUBLISH
X-ORIGINAL-URL:https://canopyandtheroots.com
X-WR-CALDESC:Events for Canopy + the Roots
REFRESH-INTERVAL;VALUE=DURATION:PT1H
X-Robots-Tag:noindex
X-PUBLISHED-TTL:PT1H
BEGIN:VTIMEZONE
TZID:America/New_York
BEGIN:DAYLIGHT
TZOFFSETFROM:-0500
TZOFFSETTO:-0400
TZNAME:EDT
DTSTART:20250309T070000
END:DAYLIGHT
BEGIN:STANDARD
TZOFFSETFROM:-0400
TZOFFSETTO:-0500
TZNAME:EST
DTSTART:20251102T060000
END:STANDARD
BEGIN:DAYLIGHT
TZOFFSETFROM:-0500
TZOFFSETTO:-0400
TZNAME:EDT
DTSTART:20260308T070000
END:DAYLIGHT
BEGIN:STANDARD
TZOFFSETFROM:-0400
TZOFFSETTO:-0500
TZNAME:EST
DTSTART:20261101T060000
END:STANDARD
BEGIN:DAYLIGHT
TZOFFSETFROM:-0500
TZOFFSETTO:-0400
TZNAME:EDT
DTSTART:20270314T070000
END:DAYLIGHT
BEGIN:STANDARD
TZOFFSETFROM:-0400
TZOFFSETTO:-0500
TZNAME:EST
DTSTART:20271107T060000
END:STANDARD
END:VTIMEZONE
BEGIN:VEVENT
DTSTART;TZID=America/New_York:20260523T193000
DTEND;TZID=America/New_York:20260523T210000
DTSTAMP:20260422T185839
CREATED:20260413T171003Z
LAST-MODIFIED:20260414T212046Z
UID:16726-1779564600-1779570000@canopyandtheroots.com
SUMMARY:Luke Morgan: "Whiskey Jam" country LIVE in the Roots
DESCRIPTION:GET TICKETS HERE. \nCountry music that blends the heavy edge elements of rock with the country roots of Alabama jam. \n\n\n\n\nLuke Morgan is a native of Huntsville\, Alabama. He is a veteran of the United States Marine Corps. After an honorable discharge from the USMC\, Luke began his country music career in Bakersfield\, California in 2019 and soon became a rising star. In 2020\, when the pandemic hit\, he was forced to relocate to Fayetteville\, GA. Luke began splitting time between Atlanta\, Ga and Nashville\, Tn where he gained notoriety as an up and coming talented singer/songwriter and by 2024 had played the legendary Whiskey Jam stage twice and released a single “Shotgun” that has been featured on multiple iHeart radio and internet radio stations. Luke and his band\, The Redliners have rocked stages all over the southeast with notable appearances as headliners of the Atlanta Air Show\, and the Senoia Car Show in 2025. In 2026 Luke’s singles “Shotgun” & “Man I Used To Be” were added to 101.5 New Country\, the largest country radio station in Georgia and featured on the Operation Encore syndicated radio show on 94.1 “The Duke” Radio. Luke & The Redliners country music blends the heavy edge elements of his rock background with the country roots of his upbringing in Alabama and are bringing high energy exciting shows to stages throughout the US. \nCheck out his EPK HERE. \nExperience sound and sight like no where else\, intimately connect to both artist and venue in the “Roots” where cave meets dramatic lighting and underground speakeasy vibes. Our listening room is a dedicated and acoustically-optimized comedy and music performance space\, seating almost 100 and confidently being one-of-a-kind. Beer and wine service varies upon show. Full mocktail menu available. Take out to dine-in. Reserve your VIP table\, couch\, or booth by emailing directly events@canopyandtheroots.com Hear the stories behind the all-original songs as the artist(s) share their inspiration and even their heartaches. \nDoors open at 7:00pm; show starts at 7:30pm.
URL:https://canopyandtheroots.com/event/luke-morgan-whiskey-jam-country-live-in-the-roots
LOCATION:the Roots
CATEGORIES:music
ATTACH;FMTTYPE=image/png:https://canopyandtheroots.com/wp-content/uploads/2026/04/Luke-Morgan.png
END:VEVENT
BEGIN:VEVENT
DTSTART;TZID=America/New_York:20260530T193000
DTEND;TZID=America/New_York:20260530T210000
DTSTAMP:20260422T185839
CREATED:20260413T203240Z
LAST-MODIFIED:20260413T203240Z
UID:16736-1780169400-1780174800@canopyandtheroots.com
SUMMARY:The Tony Brook Band: Blues from Alabama LIVE in the Roots
DESCRIPTION:Get Tickets HERE. \n\n\n\nWith lyricism only matched by his guitar\, his songs are solid messages of truth and wisdom. \n\n\n\n\nTony Brook is a musician/songwriter click who frequently plays around the U.S.A as well as Europe. \nClick here for reviews from the England and here. \nHe has appeared on BBC Radio with Keith Greentree\, and BBC Radio with Stephen Bumphreys\, \nListen to the Tony Brook interview on BBC radio with Stephen Bumphreys here. \nListen to BBC interview with Stephen Bum \nTony\, has performed with Lucinda Williams\, Steve Young\, Johnny Neal\, Tanya Tucker\, The Waylors\, Brent Cobb\, Jamey Johnson\, Adam Hood. \n(Click here for Videos) \nTony has opened up for such acts as Willie Nelson\, Ray Charles\, Government Mule\, Tensely Ellis\, and Sam Bush. Tony Brook has released his 6th and 7th full length records\, “Live from the 280 Boogie” and “Songs from the 20th Century”\, \n(Listen to selected cuts here ). \n“Local Blues God. His likeness is emblazoned on the pages of Alabama rock history. Tony Brook’s lyricism is only matched by his guitar. His songs are solid messages of truth and wisdom. His sweet-tea southern drawl tells it like it is\, – Jonas Shultz\, Freak Jams\, The Good Doctor \n“I try to cover all the Tony Brook songs I can. Tony can paint a picture of Alabama better than anyone I know.” -Adam Hood\, Low Country Sound and Warner/Chappell Nashville. \nExperience sound and sight like no where else\, intimately connect to both artist and venue in the “Roots” where cave meets dramatic lighting and underground speakeasy vibes. Our listening room is a dedicated and acoustically-optimized comedy and music performance space\, seating almost 100 and confidently being one-of-a-kind. Beer and wine service varies upon show. Full mocktail menu available. Take out to dine-in. Reserve your VIP table\, couch\, or booth by emailing directly events@canopyandtheroots.com Hear the stories behind the all-original songs as the artist(s) share their inspiration and even their heartaches.
URL:https://canopyandtheroots.com/event/the-tony-brook-band-blues-from-alabama-live-in-the-roots
LOCATION:the Roots
CATEGORIES:music
ATTACH;FMTTYPE=image/png:https://canopyandtheroots.com/wp-content/uploads/2026/04/tonybrook.png
END:VEVENT
BEGIN:VEVENT
DTSTART;TZID=America/New_York:20260612T193000
DTEND;TZID=America/New_York:20260612T210000
DTSTAMP:20260422T185839
CREATED:20260415T171241Z
LAST-MODIFIED:20260415T173949Z
UID:16740-1781292600-1781298000@canopyandtheroots.com
SUMMARY:ZG Smith x Madison Hughes: indie-folk LIVE in the Roots
DESCRIPTION:Two folk singer-songwriters from Nashville\, ONE night. \nGet TICKETS HERE. \n\n\n\n\nThe son of an English professor mother and a shipwreck diver/underwater archaeologist father\, indie-folk singer-songwriter\, artist\, and LA native ZG Smith has called Nashville home for a decade. \nBefore moving to Tennessee\, he spent his youth surfing\, dialing in complex percussion routines on an award-winning high school drumline\, experimenting with various elicit substances\, and eventually earning a bachelor’s degree in Ethnomusicology\, with a focus on Brazilian percussion\, from UCLA. \nSince moving to Music City in his mid-twenties\, he’s racked up a formidable cache of musical successes including touring extensively throughout the US\, Canada\, and Europe\, being frontman\, primary songwriter\, and founding member of Americana duo Smooth Hound Smith\, and sharing stages with acts like The Chicks\, Trombone Shorty\, Collective Soul\, and Devon Gilfillian. \nHis poignant and ethereal debut solo EP\, Nighttime Animal\, was released in February of 2023 and has garnered airplay and attention from musical curators and press outlets alike\, not the least of which include Minneapolis’s The Current\, NPR’s World Cafe\, Nashville’s Lightning 100\, PopMatters\, The Bluegrass Situation\, NashvilleSCENE\, UnderTheRadar\, and more. \nHe is currently touring selectively and working on new music.
URL:https://canopyandtheroots.com/event/zg-smith-x-madison-hughes-indie-folk-live-in-the-roots
LOCATION:the Roots
CATEGORIES:music
ATTACH;FMTTYPE=image/jpeg:https://canopyandtheroots.com/wp-content/uploads/2026/04/ZG.MH_.jpg
END:VEVENT
BEGIN:VEVENT
DTSTART;TZID=America/New_York:20260627T193000
DTEND;TZID=America/New_York:20260627T210000
DTSTAMP:20260422T185839
CREATED:20260413T182144Z
LAST-MODIFIED:20260413T182301Z
UID:16732-1782588600-1782594000@canopyandtheroots.com
SUMMARY:Caleb Tokarski : Soulful Sounds from NOLA LIVE in the Roots
DESCRIPTION:Purchase TICKETS HERE. \nHailing from the vibrant musical landscape of Augusta\, Georgia\, Caleb Tokarska‘s musical journey began surrounded by the rich\, soulful sounds that define his hometown\, which is deeply rooted in blues\, enriched by soul\, jazz\, and funk’s intricate rhythms. \nSeeking further musical inspiration and growth\, Caleb made a pivotal move to New Orleans\, a city renowned for its lively music scene and cultural richness. Immersed in the city’s vibrant and diverse atmosphere\, he found new dimensions in his music that were cultivated after taking over the guitar position for renowned singer\, John Boutté. The sounds and stories of New Orleans have infused his work with a layer of depth\, seamlessly blending the city’s trademark jazz and funk styles with his own soulful origins. This transition to New Orleans allowed Caleb to explore the intersection of tradition and innovation\, breathing new life into his performances. \nCaleb confidently navigates the spaces between genres\, weaving together stories with his guitar that resonate with emotional sincerity and technical sophistication. His music becomes a narrative rich in heritage yet refreshingly innovative\, showcasing his ability as a dynamic performer and a storyteller of sound. \nIn every note and phrase\, Caleb Tokarska embodies the soul of Georgia and the vibrant energy of New Orleans. With his unique take on the “Southern Sound”\, each performance guides the audience through an evocative musical landscape. As Caleb continues his journey\, he upholds Augusta’s storied legacy while embracing the kaleidoscopic inspiration of New Orleans\, carving his own path in the ever-evolving world of music. \nExperience sound and sight like no where else\, intimately connect to both artist and venue in the “Roots” where cave meets dramatic lighting and underground speakeasy vibes. Our listening room is a dedicated and acoustically-optimized comedy and music performance space\, seating almost 100 and confidently being one-of-a-kind. Beer and wine service varies upon show. Full mocktail menu available. Take out to dine-in. Reserve your VIP table\, couch\, or booth by emailing directly events@canopyandtheroots.com Hear the stories behind the all-original songs as the artist(s) share their inspiration and even their heartaches. \nDoors open at 7:00pm; show starts at 7:30pm.
URL:https://canopyandtheroots.com/event/caleb-tokarski-soulful-sounds-from-nola-live-in-the-roots
LOCATION:the Roots
CATEGORIES:music
ATTACH;FMTTYPE=image/jpeg:https://canopyandtheroots.com/wp-content/uploads/2026/04/CalebTokarska.jpg
END:VEVENT
END:VCALENDAR