BEGIN:VCALENDAR
VERSION:2.0
PRODID:-//Canopy + the Roots - ECPv6.15.20//NONSGML v1.0//EN
CALSCALE:GREGORIAN
METHOD:PUBLISH
X-WR-CALNAME:Canopy + the Roots
X-ORIGINAL-URL:https://canopyandtheroots.com
X-WR-CALDESC:Events for Canopy + the Roots
REFRESH-INTERVAL;VALUE=DURATION:PT1H
X-Robots-Tag:noindex
X-PUBLISHED-TTL:PT1H
BEGIN:VTIMEZONE
TZID:America/New_York
BEGIN:DAYLIGHT
TZOFFSETFROM:-0500
TZOFFSETTO:-0400
TZNAME:EDT
DTSTART:20250309T070000
END:DAYLIGHT
BEGIN:STANDARD
TZOFFSETFROM:-0400
TZOFFSETTO:-0500
TZNAME:EST
DTSTART:20251102T060000
END:STANDARD
BEGIN:DAYLIGHT
TZOFFSETFROM:-0500
TZOFFSETTO:-0400
TZNAME:EDT
DTSTART:20260308T070000
END:DAYLIGHT
BEGIN:STANDARD
TZOFFSETFROM:-0400
TZOFFSETTO:-0500
TZNAME:EST
DTSTART:20261101T060000
END:STANDARD
BEGIN:DAYLIGHT
TZOFFSETFROM:-0500
TZOFFSETTO:-0400
TZNAME:EDT
DTSTART:20270314T070000
END:DAYLIGHT
BEGIN:STANDARD
TZOFFSETFROM:-0400
TZOFFSETTO:-0500
TZNAME:EST
DTSTART:20271107T060000
END:STANDARD
END:VTIMEZONE
BEGIN:VEVENT
DTSTART;TZID=America/New_York:20260414T171500
DTEND;TZID=America/New_York:20260414T181500
DTSTAMP:20260422T183524
CREATED:20260128T175702Z
LAST-MODIFIED:20260413T181229Z
UID:16609-1776186900-1776190500@canopyandtheroots.com
SUMMARY:Flexin' Fit with Franchesca
DESCRIPTION:This is a beginners level class that will focus on optimal flexibility\, range of motion\, and core strength. Utilizing Pilates and yoga-inspired exercises on mats\, even those with previous injuries or challenges can find modifications to meet their body where it is. Franchesca is an experienced Pilates instructor and movement coach. Mats available for $1 rental; first class is FREE. Please arrive early to complete a waiver if this is your first class at Canopy.
URL:https://canopyandtheroots.com/event/flexin-fit-with-franchesca-4
LOCATION:Canopy + the Roots
CATEGORIES:workshop/class,yoga
ATTACH;FMTTYPE=image/jpeg:https://canopyandtheroots.com/wp-content/uploads/2026/01/flexinfit.jpg
END:VEVENT
END:VCALENDAR