BEGIN:VCALENDAR
VERSION:2.0
PRODID:-//Canopy + the Roots - ECPv6.15.20//NONSGML v1.0//EN
CALSCALE:GREGORIAN
METHOD:PUBLISH
X-ORIGINAL-URL:https://canopyandtheroots.com
X-WR-CALDESC:Events for Canopy + the Roots
REFRESH-INTERVAL;VALUE=DURATION:PT1H
X-Robots-Tag:noindex
X-PUBLISHED-TTL:PT1H
BEGIN:VTIMEZONE
TZID:America/New_York
BEGIN:DAYLIGHT
TZOFFSETFROM:-0500
TZOFFSETTO:-0400
TZNAME:EDT
DTSTART:20250309T070000
END:DAYLIGHT
BEGIN:STANDARD
TZOFFSETFROM:-0400
TZOFFSETTO:-0500
TZNAME:EST
DTSTART:20251102T060000
END:STANDARD
BEGIN:DAYLIGHT
TZOFFSETFROM:-0500
TZOFFSETTO:-0400
TZNAME:EDT
DTSTART:20260308T070000
END:DAYLIGHT
BEGIN:STANDARD
TZOFFSETFROM:-0400
TZOFFSETTO:-0500
TZNAME:EST
DTSTART:20261101T060000
END:STANDARD
BEGIN:DAYLIGHT
TZOFFSETFROM:-0500
TZOFFSETTO:-0400
TZNAME:EDT
DTSTART:20270314T070000
END:DAYLIGHT
BEGIN:STANDARD
TZOFFSETFROM:-0400
TZOFFSETTO:-0500
TZNAME:EST
DTSTART:20271107T060000
END:STANDARD
END:VTIMEZONE
BEGIN:VEVENT
DTSTART;TZID=America/New_York:20260523T193000
DTEND;TZID=America/New_York:20260523T210000
DTSTAMP:20260422T125312
CREATED:20260413T171003Z
LAST-MODIFIED:20260414T212046Z
UID:16726-1779564600-1779570000@canopyandtheroots.com
SUMMARY:Luke Morgan: "Whiskey Jam" country LIVE in the Roots
DESCRIPTION:GET TICKETS HERE. \nCountry music that blends the heavy edge elements of rock with the country roots of Alabama jam. \n\n\n\n\nLuke Morgan is a native of Huntsville\, Alabama. He is a veteran of the United States Marine Corps. After an honorable discharge from the USMC\, Luke began his country music career in Bakersfield\, California in 2019 and soon became a rising star. In 2020\, when the pandemic hit\, he was forced to relocate to Fayetteville\, GA. Luke began splitting time between Atlanta\, Ga and Nashville\, Tn where he gained notoriety as an up and coming talented singer/songwriter and by 2024 had played the legendary Whiskey Jam stage twice and released a single “Shotgun” that has been featured on multiple iHeart radio and internet radio stations. Luke and his band\, The Redliners have rocked stages all over the southeast with notable appearances as headliners of the Atlanta Air Show\, and the Senoia Car Show in 2025. In 2026 Luke’s singles “Shotgun” & “Man I Used To Be” were added to 101.5 New Country\, the largest country radio station in Georgia and featured on the Operation Encore syndicated radio show on 94.1 “The Duke” Radio. Luke & The Redliners country music blends the heavy edge elements of his rock background with the country roots of his upbringing in Alabama and are bringing high energy exciting shows to stages throughout the US. \nCheck out his EPK HERE. \nExperience sound and sight like no where else\, intimately connect to both artist and venue in the “Roots” where cave meets dramatic lighting and underground speakeasy vibes. Our listening room is a dedicated and acoustically-optimized comedy and music performance space\, seating almost 100 and confidently being one-of-a-kind. Beer and wine service varies upon show. Full mocktail menu available. Take out to dine-in. Reserve your VIP table\, couch\, or booth by emailing directly events@canopyandtheroots.com Hear the stories behind the all-original songs as the artist(s) share their inspiration and even their heartaches. \nDoors open at 7:00pm; show starts at 7:30pm.
URL:https://canopyandtheroots.com/event/luke-morgan-whiskey-jam-country-live-in-the-roots
LOCATION:the Roots
CATEGORIES:music
ATTACH;FMTTYPE=image/png:https://canopyandtheroots.com/wp-content/uploads/2026/04/Luke-Morgan.png
END:VEVENT
END:VCALENDAR