BEGIN:VCALENDAR
VERSION:2.0
PRODID:-//Canopy + the Roots - ECPv6.15.20//NONSGML v1.0//EN
CALSCALE:GREGORIAN
METHOD:PUBLISH
X-ORIGINAL-URL:https://canopyandtheroots.com
X-WR-CALDESC:Events for Canopy + the Roots
REFRESH-INTERVAL;VALUE=DURATION:PT1H
X-Robots-Tag:noindex
X-PUBLISHED-TTL:PT1H
BEGIN:VTIMEZONE
TZID:America/New_York
BEGIN:DAYLIGHT
TZOFFSETFROM:-0500
TZOFFSETTO:-0400
TZNAME:EDT
DTSTART:20250309T070000
END:DAYLIGHT
BEGIN:STANDARD
TZOFFSETFROM:-0400
TZOFFSETTO:-0500
TZNAME:EST
DTSTART:20251102T060000
END:STANDARD
BEGIN:DAYLIGHT
TZOFFSETFROM:-0500
TZOFFSETTO:-0400
TZNAME:EDT
DTSTART:20260308T070000
END:DAYLIGHT
BEGIN:STANDARD
TZOFFSETFROM:-0400
TZOFFSETTO:-0500
TZNAME:EST
DTSTART:20261101T060000
END:STANDARD
BEGIN:DAYLIGHT
TZOFFSETFROM:-0500
TZOFFSETTO:-0400
TZNAME:EDT
DTSTART:20270314T070000
END:DAYLIGHT
BEGIN:STANDARD
TZOFFSETFROM:-0400
TZOFFSETTO:-0500
TZNAME:EST
DTSTART:20271107T060000
END:STANDARD
END:VTIMEZONE
BEGIN:VEVENT
DTSTART;TZID=America/New_York:20260430T193000
DTEND;TZID=America/New_York:20260430T203000
DTSTAMP:20260422T111719
CREATED:20260326T175534Z
LAST-MODIFIED:20260413T162639Z
UID:16682-1777577400-1777581000@canopyandtheroots.com
SUMMARY:Low Light Jazz Night: Atmospheric Sounds of Chantae Cann
DESCRIPTION:Get Tickets HERE. \nA new series presented by C+R happening the last THURSDAY of each month. Sponsored in part by UPS store\, Dahlonega Village \n\n\n\n\nJoin us in welcoming a different artist\, band\, or trio each evening of the series. \nThis Thursday evening we are so thrilled to present CHANTAE CANN\, an atmospheric jazz vocalist and songwriter whose voice truly brings your nervous to a calm vibration and quiets the chaos of everyday life in an uncommonly beautiful way.
URL:https://canopyandtheroots.com/event/low-light-jazz-night-2
LOCATION:the Roots
CATEGORIES:music
ATTACH;FMTTYPE=image/jpeg:https://canopyandtheroots.com/wp-content/uploads/2026/03/LLJN_chantaecann.jpg
END:VEVENT
END:VCALENDAR