BEGIN:VCALENDAR
VERSION:2.0
PRODID:-//Canopy + the Roots - ECPv6.15.20//NONSGML v1.0//EN
CALSCALE:GREGORIAN
METHOD:PUBLISH
X-ORIGINAL-URL:https://canopyandtheroots.com
X-WR-CALDESC:Events for Canopy + the Roots
REFRESH-INTERVAL;VALUE=DURATION:PT1H
X-Robots-Tag:noindex
X-PUBLISHED-TTL:PT1H
BEGIN:VTIMEZONE
TZID:America/New_York
BEGIN:DAYLIGHT
TZOFFSETFROM:-0500
TZOFFSETTO:-0400
TZNAME:EDT
DTSTART:20250309T070000
END:DAYLIGHT
BEGIN:STANDARD
TZOFFSETFROM:-0400
TZOFFSETTO:-0500
TZNAME:EST
DTSTART:20251102T060000
END:STANDARD
BEGIN:DAYLIGHT
TZOFFSETFROM:-0500
TZOFFSETTO:-0400
TZNAME:EDT
DTSTART:20260308T070000
END:DAYLIGHT
BEGIN:STANDARD
TZOFFSETFROM:-0400
TZOFFSETTO:-0500
TZNAME:EST
DTSTART:20261101T060000
END:STANDARD
BEGIN:DAYLIGHT
TZOFFSETFROM:-0500
TZOFFSETTO:-0400
TZNAME:EDT
DTSTART:20270314T070000
END:DAYLIGHT
BEGIN:STANDARD
TZOFFSETFROM:-0400
TZOFFSETTO:-0500
TZNAME:EST
DTSTART:20271107T060000
END:STANDARD
END:VTIMEZONE
BEGIN:VEVENT
DTSTART;TZID=America/New_York:20260426T140000
DTEND;TZID=America/New_York:20260426T170000
DTSTAMP:20260422T111709
CREATED:20260331T190250Z
LAST-MODIFIED:20260420T201059Z
UID:16690-1777212000-1777222800@canopyandtheroots.com
SUMMARY:Dahlonega Micro Wedding Expo at C+R: POSTPONED to July
DESCRIPTION:Get Tickets HERE.\nDahlonega’s FIRST ever bridal expo X a showcase of the gold city’s most talented wedding vendors\, from photography to florals\, rentals to catering & a formal wear fashion show.\nIn the spirit of love and with wedding season almost here\, Canopy and the Roots is showcasing some of the best of Dahlonega when it comes to bridal party services. Come enjoy a mocktail bar\, charcuterrie\, live music and catering underneath the string lights and candlight of the Roots. Dahlonega is a charming and uncommonly beautiful location to tie the knot. Some choose to do this by celebrating with a micro-wedding (aka. intimately small wedding)\, for which Canopy + the Roots is a fantastic space. We host rehearsal dinners\, receptions\, parties and showers. \nMeet with and discuss photography\, pop into a selfie station\, see fresh floral and decor perspectives\, tablescapes for a wedding or rehearsal dinner\, meet and understand the difference between a day-of planner and a full service planner\, enjoy a formal wear fashion show and live music. \nOur vendors: \nMeet West Destiny Drive\, photographer Reagan Powell. In a world where photography is pushed to the side of commodity\, point and shoot\, churn and burn\, Reagan is a true master craftswomen. She is a professional\, kind\, organized\, uncommonly gifted\, and experienced photographer with more than 15 years of beautiful work! \n \nMeet Lori of Nonni’s Bakery. Lori is a licensed cottage baker in Dahlonega\, Ga and a cupcake artist specializing in buttercream floral bouquets Check out her vintage horse trailer turned Cake Bar for events~ Sugarbelles Cake & Co. & Pop up bakery- Sweet Fern! \n \nMeet Glimmer and Grace\, Dahlonega’s first ever formal wear and bridal boutique. One of the highlights of the afternoon will be a runway modeling of fifteen bridal styles and dresses: a beautiful preview of what the boutique offers from proms and homecoming to bride\, MOB and bridesmaids. \n   \nWebsite. \nMeet Kylee Adams\, founder of Paradise Blooms — a dream grown with the love and support of my husband Jonathan\, our two amazing teens\, and our four-legged assistant\, Jack the Amstaff Terrier. What began as a love for plants and nature has blossomed into a full-fledged passion. Nestled in the North Georgia mountains\, our little patch of land has become a sanctuary for beauty\, balance\, and blooms. A Family Farm with a Purpose Since starting Paradise Blooms in 2021\, our family has poured heart and sweat into cultivating a garden that reflects more than just flowers — it reflects our values. \nEvery seedling we plant is part of our mission to bring joy\, sustainability\, and natural beauty into people’s lives. We believe in regenerative\, no-till farming that supports soil health\, encourages biodiversity\, and never uses harmful pesticides or chemicals. Every bloom you receive is a product of love\, care\, and patience. More Than a Bouquet This is more than a flower farm — it’s a way of life. Paradise Blooms is where we connect with the earth\, each other\, and our community. Every bouquet we craft is designed to spark joy and celebrate life’s beautiful moments — big or small. \n  \n  \n 
URL:https://canopyandtheroots.com/event/dahlonega-micro-wedding-expo-at-cr
LOCATION:the Roots
CATEGORIES:music,tasting,workshop/class
ATTACH;FMTTYPE=image/jpeg:https://canopyandtheroots.com/wp-content/uploads/2026/03/DahlonegaMicroWeddingExpo-2.jpg
END:VEVENT
END:VCALENDAR