BEGIN:VCALENDAR
VERSION:2.0
PRODID:-//Canopy + the Roots - ECPv6.15.20//NONSGML v1.0//EN
CALSCALE:GREGORIAN
METHOD:PUBLISH
X-ORIGINAL-URL:https://canopyandtheroots.com
X-WR-CALDESC:Events for Canopy + the Roots
REFRESH-INTERVAL;VALUE=DURATION:PT1H
X-Robots-Tag:noindex
X-PUBLISHED-TTL:PT1H
BEGIN:VTIMEZONE
TZID:America/New_York
BEGIN:DAYLIGHT
TZOFFSETFROM:-0500
TZOFFSETTO:-0400
TZNAME:EDT
DTSTART:20250309T070000
END:DAYLIGHT
BEGIN:STANDARD
TZOFFSETFROM:-0400
TZOFFSETTO:-0500
TZNAME:EST
DTSTART:20251102T060000
END:STANDARD
BEGIN:DAYLIGHT
TZOFFSETFROM:-0500
TZOFFSETTO:-0400
TZNAME:EDT
DTSTART:20260308T070000
END:DAYLIGHT
BEGIN:STANDARD
TZOFFSETFROM:-0400
TZOFFSETTO:-0500
TZNAME:EST
DTSTART:20261101T060000
END:STANDARD
BEGIN:DAYLIGHT
TZOFFSETFROM:-0500
TZOFFSETTO:-0400
TZNAME:EDT
DTSTART:20270314T070000
END:DAYLIGHT
BEGIN:STANDARD
TZOFFSETFROM:-0400
TZOFFSETTO:-0500
TZNAME:EST
DTSTART:20271107T060000
END:STANDARD
END:VTIMEZONE
BEGIN:VEVENT
DTSTART;TZID=America/New_York:20260424T200000
DTEND;TZID=America/New_York:20260424T220000
DTSTAMP:20260422T105819
CREATED:20260326T175755Z
LAST-MODIFIED:20260422T141626Z
UID:16685-1777060800-1777068000@canopyandtheroots.com
SUMMARY:Die Laughing Comedy presents multi-comic stand-up LIVE in the Roots
DESCRIPTION:Get TICKETS HERE.
URL:https://canopyandtheroots.com/event/die-laughing-comedy-presents-multi-comic-stand-up-live-in-the-roots
LOCATION:the Roots
CATEGORIES:comedy
ATTACH;FMTTYPE=image/png:https://canopyandtheroots.com/wp-content/uploads/2026/03/Blue-and-Pink-Simple-Photo-Stand-Up-Comedy-invitation-Instagram-Post-1.png
END:VEVENT
END:VCALENDAR