BEGIN:VCALENDAR
VERSION:2.0
PRODID:-//Canopy + the Roots - ECPv6.15.20//NONSGML v1.0//EN
CALSCALE:GREGORIAN
METHOD:PUBLISH
X-ORIGINAL-URL:https://canopyandtheroots.com
X-WR-CALDESC:Events for Canopy + the Roots
REFRESH-INTERVAL;VALUE=DURATION:PT1H
X-Robots-Tag:noindex
X-PUBLISHED-TTL:PT1H
BEGIN:VTIMEZONE
TZID:America/New_York
BEGIN:DAYLIGHT
TZOFFSETFROM:-0500
TZOFFSETTO:-0400
TZNAME:EDT
DTSTART:20250309T070000
END:DAYLIGHT
BEGIN:STANDARD
TZOFFSETFROM:-0400
TZOFFSETTO:-0500
TZNAME:EST
DTSTART:20251102T060000
END:STANDARD
BEGIN:DAYLIGHT
TZOFFSETFROM:-0500
TZOFFSETTO:-0400
TZNAME:EDT
DTSTART:20260308T070000
END:DAYLIGHT
BEGIN:STANDARD
TZOFFSETFROM:-0400
TZOFFSETTO:-0500
TZNAME:EST
DTSTART:20261101T060000
END:STANDARD
BEGIN:DAYLIGHT
TZOFFSETFROM:-0500
TZOFFSETTO:-0400
TZNAME:EDT
DTSTART:20270314T070000
END:DAYLIGHT
BEGIN:STANDARD
TZOFFSETFROM:-0400
TZOFFSETTO:-0500
TZNAME:EST
DTSTART:20271107T060000
END:STANDARD
END:VTIMEZONE
BEGIN:VEVENT
DTSTART;TZID=America/New_York:20260417T193000
DTEND;TZID=America/New_York:20260417T210000
DTSTAMP:20260422T111719
CREATED:20260119T220212Z
LAST-MODIFIED:20260408T171250Z
UID:16589-1776454200-1776459600@canopyandtheroots.com
SUMMARY:Storytellers BOTS Open Mic with host\, Akeeme Martin
DESCRIPTION:Purchase tickets HERE. \n\n\n\n\nEvery 3rd Friday of the month\, Canopy & the Roots opens up their speakeasy to musicians\, comedians\, poets as C+R presents the Storyteller’s Open Mic. Each act has up to 15 minutes to showcase their original works. Sign-up is free and done exclusively online via Google forms to secure your slot HERE.\n\n\n\n\nEvery artist plays a small stage; come catch these songs in the most intimate and lush of listening rooms.
URL:https://canopyandtheroots.com/event/storytellers-open-mic-with-host-akeeme-martin
LOCATION:the Roots
CATEGORIES:art,comedy,music,performing arts
ATTACH;FMTTYPE=image/jpeg:https://canopyandtheroots.com/wp-content/uploads/2026/01/Photo-Jan-19-2026-4-44-54-PM-1-1.jpg
END:VEVENT
END:VCALENDAR