BEGIN:VCALENDAR
VERSION:2.0
PRODID:-//Canopy + the Roots - ECPv6.15.20//NONSGML v1.0//EN
CALSCALE:GREGORIAN
METHOD:PUBLISH
X-ORIGINAL-URL:https://canopyandtheroots.com
X-WR-CALDESC:Events for Canopy + the Roots
REFRESH-INTERVAL;VALUE=DURATION:PT1H
X-Robots-Tag:noindex
X-PUBLISHED-TTL:PT1H
BEGIN:VTIMEZONE
TZID:America/New_York
BEGIN:DAYLIGHT
TZOFFSETFROM:-0500
TZOFFSETTO:-0400
TZNAME:EDT
DTSTART:20250309T070000
END:DAYLIGHT
BEGIN:STANDARD
TZOFFSETFROM:-0400
TZOFFSETTO:-0500
TZNAME:EST
DTSTART:20251102T060000
END:STANDARD
BEGIN:DAYLIGHT
TZOFFSETFROM:-0500
TZOFFSETTO:-0400
TZNAME:EDT
DTSTART:20260308T070000
END:DAYLIGHT
BEGIN:STANDARD
TZOFFSETFROM:-0400
TZOFFSETTO:-0500
TZNAME:EST
DTSTART:20261101T060000
END:STANDARD
BEGIN:DAYLIGHT
TZOFFSETFROM:-0500
TZOFFSETTO:-0400
TZNAME:EDT
DTSTART:20270314T070000
END:DAYLIGHT
BEGIN:STANDARD
TZOFFSETFROM:-0400
TZOFFSETTO:-0500
TZNAME:EST
DTSTART:20271107T060000
END:STANDARD
END:VTIMEZONE
BEGIN:VEVENT
DTSTART;TZID=America/New_York:20260329T130000
DTEND;TZID=America/New_York:20260329T170000
DTSTAMP:20260422T112238
CREATED:20251124T182515Z
LAST-MODIFIED:20260323T175523Z
UID:16523-1774789200-1774803600@canopyandtheroots.com
SUMMARY:Canopy Makers Market: Spring Edition
DESCRIPTION:A curated indoor market showcase featuring small and independent businesses from North Georgia. \nLooking for a gift for that special someone? Or want to treat yourself? Consider joining us on Sunday\, March 29th for a special Spring Edition of our Makers Market. From 12PM-5PM\, we are showcasing small and indepdent businesses across North Georgia downstairs in our speakeasy with the intention of providing an alternative to shopping online or at the big box stores. #SupportYourLocalBusinessFriends is our motto. \n 
URL:https://canopyandtheroots.com/event/canopy-makers-market-holiday-edition
LOCATION:Canopy + the Roots
CATEGORIES:art,performing arts
ATTACH;FMTTYPE=image/jpeg:https://canopyandtheroots.com/wp-content/uploads/2025/11/MakersMarket11x17-scaled.jpg
END:VEVENT
END:VCALENDAR