BEGIN:VCALENDAR
VERSION:2.0
PRODID:-//Canopy + the Roots - ECPv6.15.20//NONSGML v1.0//EN
CALSCALE:GREGORIAN
METHOD:PUBLISH
X-ORIGINAL-URL:https://canopyandtheroots.com
X-WR-CALDESC:Events for Canopy + the Roots
REFRESH-INTERVAL;VALUE=DURATION:PT1H
X-Robots-Tag:noindex
X-PUBLISHED-TTL:PT1H
BEGIN:VTIMEZONE
TZID:America/New_York
BEGIN:DAYLIGHT
TZOFFSETFROM:-0500
TZOFFSETTO:-0400
TZNAME:EDT
DTSTART:20250309T070000
END:DAYLIGHT
BEGIN:STANDARD
TZOFFSETFROM:-0400
TZOFFSETTO:-0500
TZNAME:EST
DTSTART:20251102T060000
END:STANDARD
BEGIN:DAYLIGHT
TZOFFSETFROM:-0500
TZOFFSETTO:-0400
TZNAME:EDT
DTSTART:20260308T070000
END:DAYLIGHT
BEGIN:STANDARD
TZOFFSETFROM:-0400
TZOFFSETTO:-0500
TZNAME:EST
DTSTART:20261101T060000
END:STANDARD
BEGIN:DAYLIGHT
TZOFFSETFROM:-0500
TZOFFSETTO:-0400
TZNAME:EDT
DTSTART:20270314T070000
END:DAYLIGHT
BEGIN:STANDARD
TZOFFSETFROM:-0400
TZOFFSETTO:-0500
TZNAME:EST
DTSTART:20271107T060000
END:STANDARD
END:VTIMEZONE
BEGIN:VEVENT
DTSTART;TZID=America/New_York:20260326T193000
DTEND;TZID=America/New_York:20260326T203000
DTSTAMP:20260422T130531
CREATED:20260112T204654Z
LAST-MODIFIED:20260323T194436Z
UID:16570-1774553400-1774557000@canopyandtheroots.com
SUMMARY:Low Light Jazz Night with saxophonist/flutist\, Marquis Hare
DESCRIPTION:A new series presented by C+R happening the last THURSDAY of each month. \nJoin us in welcoming a different artist\, band\, or trio each evening of the series. \nThis particular evening we are presenting dynamic saxophonist/flutist\, Marquis Hare. Marquis is known for his smooth tone\, expressive phrasing\, and commitment to musical excellence. Blending elements of jazz\, R&B\, and soul\, he creates a signature sound that resonates with both contemporary and traditional audiences. As a performer and bandleader of 400 Proof Enjoy the R.U.M.\, Marquis brings a polished yet passionate energy to every stage\, captivating listeners with rich melodies and engaging improvisation.His work reflects a deep dedication to musicianship\, with a focus on tone\, control\, and emotional connection. Whether performing live or recording\, Marquis Hare continues to develop his artistry while building a growing presence in the independent music scene. \nPurchase TICKETS HERE. \n 
URL:https://canopyandtheroots.com/event/low-light-jazz-night
LOCATION:the Roots
CATEGORIES:art,music,performing arts,workshop/class
ATTACH;FMTTYPE=image/png:https://canopyandtheroots.com/wp-content/uploads/2026/01/MarquisHare_CNPY.png
END:VEVENT
END:VCALENDAR