BEGIN:VCALENDAR
VERSION:2.0
PRODID:-//Canopy + the Roots - ECPv6.15.20//NONSGML v1.0//EN
CALSCALE:GREGORIAN
METHOD:PUBLISH
X-WR-CALNAME:Canopy + the Roots
X-ORIGINAL-URL:https://canopyandtheroots.com
X-WR-CALDESC:Events for Canopy + the Roots
REFRESH-INTERVAL;VALUE=DURATION:PT1H
X-Robots-Tag:noindex
X-PUBLISHED-TTL:PT1H
BEGIN:VTIMEZONE
TZID:America/New_York
BEGIN:DAYLIGHT
TZOFFSETFROM:-0500
TZOFFSETTO:-0400
TZNAME:EDT
DTSTART:20250309T070000
END:DAYLIGHT
BEGIN:STANDARD
TZOFFSETFROM:-0400
TZOFFSETTO:-0500
TZNAME:EST
DTSTART:20251102T060000
END:STANDARD
BEGIN:DAYLIGHT
TZOFFSETFROM:-0500
TZOFFSETTO:-0400
TZNAME:EDT
DTSTART:20260308T070000
END:DAYLIGHT
BEGIN:STANDARD
TZOFFSETFROM:-0400
TZOFFSETTO:-0500
TZNAME:EST
DTSTART:20261101T060000
END:STANDARD
BEGIN:DAYLIGHT
TZOFFSETFROM:-0500
TZOFFSETTO:-0400
TZNAME:EDT
DTSTART:20270314T070000
END:DAYLIGHT
BEGIN:STANDARD
TZOFFSETFROM:-0400
TZOFFSETTO:-0500
TZNAME:EST
DTSTART:20271107T060000
END:STANDARD
END:VTIMEZONE
BEGIN:VEVENT
DTSTART;TZID=America/New_York:20260321T193000
DTEND;TZID=America/New_York:20260321T210000
DTSTAMP:20260422T130343
CREATED:20260224T181919Z
LAST-MODIFIED:20260224T183510Z
UID:16633-1774121400-1774126800@canopyandtheroots.com
SUMMARY:Sugar Lime Blue back in the Roots\, multi-genre country-blues
DESCRIPTION:Purchase tickets HERE. \nAshley & Dave\, the Tennessee based dynamic duo behind Sugar Lime Blue\, who deliver a captivating blend of sounds that bridge genres and engage audiences. Cosmic Cowgirl is a genre that fuses classic country storytelling with psychedelic\, bluesy\, and jam-infused elements\, creating a unique sound that feels both grounded and otherworldly. \nAbout Ashley & Dave :\nAs members of the Americana Association and the Nashville Blues and Roots Alliance\, Ashley & Dave are currently touring in support of their latest album\, The Blackbird Session. This album has gained significant traction\, receiving airplay on over 100 FM stations nationwide. Their lead single\, “Burn It\,” has garnered over 100\,000 views on YouTube\, while “Hello October” has gone viral on Instagram\, featuring in over 140\,000 reels and racking up millions of plays. \nIntimately connect to both artist and venue in our lush\, speakeasy-style\, 100 seat listening room. Hear the stories behind the all-original songs as the artist(s) share their inspiration and even their heartaches. \nDoors open at 7:00pm; show starts at 7:30pm; VIP lounge or balcony seating with table service available by contacting events@canopyandtheroots.com .
URL:https://canopyandtheroots.com/event/sugar-lime-blue-back-in-the-roots-multi-genre-country-blues
LOCATION:the Roots
CATEGORIES:music
ATTACH;FMTTYPE=image/jpeg:https://canopyandtheroots.com/wp-content/uploads/2025/11/sugarlimeblue-e1771957014542.jpg
END:VEVENT
END:VCALENDAR