BEGIN:VCALENDAR
VERSION:2.0
PRODID:-//Canopy + the Roots - ECPv6.15.20//NONSGML v1.0//EN
CALSCALE:GREGORIAN
METHOD:PUBLISH
X-WR-CALNAME:Canopy + the Roots
X-ORIGINAL-URL:https://canopyandtheroots.com
X-WR-CALDESC:Events for Canopy + the Roots
REFRESH-INTERVAL;VALUE=DURATION:PT1H
X-Robots-Tag:noindex
X-PUBLISHED-TTL:PT1H
BEGIN:VTIMEZONE
TZID:America/New_York
BEGIN:DAYLIGHT
TZOFFSETFROM:-0500
TZOFFSETTO:-0400
TZNAME:EDT
DTSTART:20250309T070000
END:DAYLIGHT
BEGIN:STANDARD
TZOFFSETFROM:-0400
TZOFFSETTO:-0500
TZNAME:EST
DTSTART:20251102T060000
END:STANDARD
BEGIN:DAYLIGHT
TZOFFSETFROM:-0500
TZOFFSETTO:-0400
TZNAME:EDT
DTSTART:20260308T070000
END:DAYLIGHT
BEGIN:STANDARD
TZOFFSETFROM:-0400
TZOFFSETTO:-0500
TZNAME:EST
DTSTART:20261101T060000
END:STANDARD
BEGIN:DAYLIGHT
TZOFFSETFROM:-0500
TZOFFSETTO:-0400
TZNAME:EDT
DTSTART:20270314T070000
END:DAYLIGHT
BEGIN:STANDARD
TZOFFSETFROM:-0400
TZOFFSETTO:-0500
TZNAME:EST
DTSTART:20271107T060000
END:STANDARD
END:VTIMEZONE
BEGIN:VEVENT
DTSTART;TZID=America/New_York:20260206T193000
DTEND;TZID=America/New_York:20260206T213000
DTSTAMP:20260422T143529
CREATED:20250929T153249Z
LAST-MODIFIED:20260204T182835Z
UID:16428-1770406200-1770413400@canopyandtheroots.com
SUMMARY:Winter Karaoke Party with host Akeeme Martin: LIVE in the Roots
DESCRIPTION:Get tickets HERE. \nIt’s high time to warm up your vocal chords and dress the part (if you’d like) as we bring to you our Winter Karaoke Party. Join us on\, Friday\, February 6th in our speakeasy\, as we open up the stage for any and every one to come through and sing their songs from their favorite artists. Sign-up is free and done exclusively online via Google forms to secure your slot HERE.
URL:https://canopyandtheroots.com/event/fall-karaoke-party-with-host-akeeme-martin-live-in-the-roots
LOCATION:the Roots
CATEGORIES:music,performing arts
ATTACH;FMTTYPE=image/jpeg:https://canopyandtheroots.com/wp-content/uploads/2025/09/Photo-Sep-29-2025-11-39-32-AM-e1770229602127.jpg
END:VEVENT
END:VCALENDAR