BEGIN:VCALENDAR
VERSION:2.0
PRODID:-//Canopy + the Roots - ECPv6.15.20//NONSGML v1.0//EN
CALSCALE:GREGORIAN
METHOD:PUBLISH
X-ORIGINAL-URL:https://canopyandtheroots.com
X-WR-CALDESC:Events for Canopy + the Roots
REFRESH-INTERVAL;VALUE=DURATION:PT1H
X-Robots-Tag:noindex
X-PUBLISHED-TTL:PT1H
BEGIN:VTIMEZONE
TZID:America/New_York
BEGIN:DAYLIGHT
TZOFFSETFROM:-0500
TZOFFSETTO:-0400
TZNAME:EDT
DTSTART:20240310T070000
END:DAYLIGHT
BEGIN:STANDARD
TZOFFSETFROM:-0400
TZOFFSETTO:-0500
TZNAME:EST
DTSTART:20241103T060000
END:STANDARD
BEGIN:DAYLIGHT
TZOFFSETFROM:-0500
TZOFFSETTO:-0400
TZNAME:EDT
DTSTART:20250309T070000
END:DAYLIGHT
BEGIN:STANDARD
TZOFFSETFROM:-0400
TZOFFSETTO:-0500
TZNAME:EST
DTSTART:20251102T060000
END:STANDARD
BEGIN:DAYLIGHT
TZOFFSETFROM:-0500
TZOFFSETTO:-0400
TZNAME:EDT
DTSTART:20260308T070000
END:DAYLIGHT
BEGIN:STANDARD
TZOFFSETFROM:-0400
TZOFFSETTO:-0500
TZNAME:EST
DTSTART:20261101T060000
END:STANDARD
END:VTIMEZONE
BEGIN:VEVENT
DTSTART;TZID=America/New_York:20251130T120000
DTEND;TZID=America/New_York:20251130T140000
DTSTAMP:20260422T173716
CREATED:20251124T181859Z
LAST-MODIFIED:20251124T181859Z
UID:16520-1764504000-1764511200@canopyandtheroots.com
SUMMARY:Plant Workshop with Art of Mystic Mountain Studio (Noon Session)
DESCRIPTION:Get Tickets HERE. \nHave you been recently diagnosed with stress? Dr. Art has the perfect prescription for you – an Emotional Support Plant. This planter is mobile so it can go with you through all those stressful situations: work meetings\, traffic jams\, first dates\, arguments with your family\, etc\, etc. Create your own Emotional Support Plant with Dr. Art and Mystic Mountain Studio at Canopy+ the Roots on Sunday\, November 30\, 2025. Schedule your appointment for 12:00PM. Walk-ins welcome if space is still available. \nThe price of admission includes your choice of ceramic planter to glaze\, a plant\, 3 accessories\, and Emotional Support Plant prescription card. Completed planter will be available for pickup at Canopy + the Roots in 1 week.
URL:https://canopyandtheroots.com/event/plant-workshop-with-art-of-mystic-mountain-studio-noon-session
LOCATION:the Roots
CATEGORIES:art,workshop/class
ATTACH;FMTTYPE=image/jpeg:https://canopyandtheroots.com/wp-content/uploads/2025/11/https___cdn.evbuc_.com_images_1169422513_389450989481_1_original.jpg
END:VEVENT
END:VCALENDAR