BEGIN:VCALENDAR
VERSION:2.0
PRODID:-//Canopy + the Roots - ECPv6.15.20//NONSGML v1.0//EN
CALSCALE:GREGORIAN
METHOD:PUBLISH
X-ORIGINAL-URL:https://canopyandtheroots.com
X-WR-CALDESC:Events for Canopy + the Roots
REFRESH-INTERVAL;VALUE=DURATION:PT1H
X-Robots-Tag:noindex
X-PUBLISHED-TTL:PT1H
BEGIN:VTIMEZONE
TZID:America/New_York
BEGIN:DAYLIGHT
TZOFFSETFROM:-0500
TZOFFSETTO:-0400
TZNAME:EDT
DTSTART:20240310T070000
END:DAYLIGHT
BEGIN:STANDARD
TZOFFSETFROM:-0400
TZOFFSETTO:-0500
TZNAME:EST
DTSTART:20241103T060000
END:STANDARD
BEGIN:DAYLIGHT
TZOFFSETFROM:-0500
TZOFFSETTO:-0400
TZNAME:EDT
DTSTART:20250309T070000
END:DAYLIGHT
BEGIN:STANDARD
TZOFFSETFROM:-0400
TZOFFSETTO:-0500
TZNAME:EST
DTSTART:20251102T060000
END:STANDARD
BEGIN:DAYLIGHT
TZOFFSETFROM:-0500
TZOFFSETTO:-0400
TZNAME:EDT
DTSTART:20260308T070000
END:DAYLIGHT
BEGIN:STANDARD
TZOFFSETFROM:-0400
TZOFFSETTO:-0500
TZNAME:EST
DTSTART:20261101T060000
END:STANDARD
END:VTIMEZONE
BEGIN:VEVENT
DTSTART;TZID=America/New_York:20251107T200000
DTEND;TZID=America/New_York:20251107T230000
DTSTAMP:20260422T190755
CREATED:20250310T171635Z
LAST-MODIFIED:20251103T154500Z
UID:16277-1762545600-1762556400@canopyandtheroots.com
SUMMARY:The Time Machine\, First Friday 90s Dance Party in the Roots
DESCRIPTION:Purchase Tickets HERE. \nDance party themed with 90’s Hip Hop: we present The Time Machine. Join us\, every 1st Friday with DJ Blacque Starr on Friday\, April 4th as DJ BlacqueStarr will provide the soundtrack featuring the latest and greatest from the 80s\, the 90s (including the taking over for the 99) and 2000s. Come through in your freshest threads as we’ll have a photo booth available and a reward for the best-dressed and more. Doors at 7pm and party starts at 8pm. \n 
URL:https://canopyandtheroots.com/event/the-time-machine-first-friday-90s-dance-party-in-the-roots
LOCATION:the Roots
CATEGORIES:music
ATTACH;FMTTYPE=image/jpeg:https://canopyandtheroots.com/wp-content/uploads/2025/01/https___cdn.evbuc_.com_images_947775873_389450989481_1_original-e1741626912450.jpg
END:VEVENT
END:VCALENDAR