BEGIN:VCALENDAR
VERSION:2.0
PRODID:-//Canopy + the Roots - ECPv6.15.20//NONSGML v1.0//EN
CALSCALE:GREGORIAN
METHOD:PUBLISH
X-WR-CALNAME:Canopy + the Roots
X-ORIGINAL-URL:https://canopyandtheroots.com
X-WR-CALDESC:Events for Canopy + the Roots
REFRESH-INTERVAL;VALUE=DURATION:PT1H
X-Robots-Tag:noindex
X-PUBLISHED-TTL:PT1H
BEGIN:VTIMEZONE
TZID:America/New_York
BEGIN:DAYLIGHT
TZOFFSETFROM:-0500
TZOFFSETTO:-0400
TZNAME:EDT
DTSTART:20240310T070000
END:DAYLIGHT
BEGIN:STANDARD
TZOFFSETFROM:-0400
TZOFFSETTO:-0500
TZNAME:EST
DTSTART:20241103T060000
END:STANDARD
BEGIN:DAYLIGHT
TZOFFSETFROM:-0500
TZOFFSETTO:-0400
TZNAME:EDT
DTSTART:20250309T070000
END:DAYLIGHT
BEGIN:STANDARD
TZOFFSETFROM:-0400
TZOFFSETTO:-0500
TZNAME:EST
DTSTART:20251102T060000
END:STANDARD
BEGIN:DAYLIGHT
TZOFFSETFROM:-0500
TZOFFSETTO:-0400
TZNAME:EDT
DTSTART:20260308T070000
END:DAYLIGHT
BEGIN:STANDARD
TZOFFSETFROM:-0400
TZOFFSETTO:-0500
TZNAME:EST
DTSTART:20261101T060000
END:STANDARD
END:VTIMEZONE
BEGIN:VEVENT
DTSTART;TZID=America/New_York:20251101T163000
DTEND;TZID=America/New_York:20251101T210000
DTSTAMP:20260422T190729
CREATED:20251006T161831Z
LAST-MODIFIED:20251015T182551Z
UID:16441-1762014600-1762030800@canopyandtheroots.com
SUMMARY:Squeaky-Clean Comedy Night featuring LaReesa Orton w/guests Mike Cooper & Holly Hardin
DESCRIPTION:Purchase 4:30pm tickets HERE. \nPurchase 7:30pm tickets HERE. \nLaReesa Orton has been performing comedy for a year and a half\, adding public speaking to her resume in the last year. She’s a graduate of laughing skull lounge comedy class\, punchlines\, Jeff justice\, comedy writers\, workshops\, levels\, one and two\, as well as select stages during Hollywood Burbank comedy festival\, August 2024. Most recently\, she performed in Keenan. Thompson presents: Road to Vegas\, earning an honorable mention from Hollywood directors earlier this year. A native of Cartersville Georgia LaReesa expires to one day participate as a game show contestant and drive the Oscar Meyer wiener mobile until the calls come she’s sharing her story for His glory and laughing all the way. \nMike Cooper has been married to his wife\, Christine\, for 31 years. They live in Dunwoody\, Georgia\, and have a 27 year-old son who graduated from the United States Air Force Academy\, and now service captain and pilot. Their family also includes a four year-old shelter dog named trooper Cooper. Mike spent 41 years working in information technology with companies such as IBM and Hewlett-Packard. Having recently retired he is now enjoying his pre-time.  \nHolly Hardin– 61-year-old Southern Belle who everybody calls Miss Holly – makes her debut tonight\, serving punchline smoother than sweet tea and brighter than the heirloom pearls mama hauls in a roller cooler to church potluck\, grocery store\, or doctors office – because Lord knows a lady Sparkle shouldn’t wait for Sunday. Widowhood just a new aisle to shop: casseroles stacked higher than gossip\, older men who flirt like they’re still in high school (bless their polyester hearts)\, and casseroles again\, because when you’re 61\, folks don’t bring wine\, they bring carbs with a side of salvation. \nConnect authentically to the artists by hearing them in our “speakeasy”-styled intimate listening room\, the Roots\, located underground beneath the Canopy social house. Hear the stories behind the songs as the artist(s) share their inspiration and even their heartaches. Doors open at 6:30pm; show starts at 7:00pm; VIP lounge with couches\, booths\, and tables are available. Reserve by emailing events@canopyandtheroots.com . \n  \n 
URL:https://canopyandtheroots.com/event/squeaky-clean-comedy-night-featuring-stand-up-comic-lareesa-orton
LOCATION:the Roots
CATEGORIES:comedy,performing arts
ATTACH;FMTTYPE=image/jpeg:https://canopyandtheroots.com/wp-content/uploads/2025/10/LareesaOrton-scaled.jpg
END:VEVENT
END:VCALENDAR