BEGIN:VCALENDAR
VERSION:2.0
PRODID:-//Canopy + the Roots - ECPv6.15.20//NONSGML v1.0//EN
CALSCALE:GREGORIAN
METHOD:PUBLISH
X-ORIGINAL-URL:https://canopyandtheroots.com
X-WR-CALDESC:Events for Canopy + the Roots
REFRESH-INTERVAL;VALUE=DURATION:PT1H
X-Robots-Tag:noindex
X-PUBLISHED-TTL:PT1H
BEGIN:VTIMEZONE
TZID:America/New_York
BEGIN:DAYLIGHT
TZOFFSETFROM:-0500
TZOFFSETTO:-0400
TZNAME:EDT
DTSTART:20240310T070000
END:DAYLIGHT
BEGIN:STANDARD
TZOFFSETFROM:-0400
TZOFFSETTO:-0500
TZNAME:EST
DTSTART:20241103T060000
END:STANDARD
BEGIN:DAYLIGHT
TZOFFSETFROM:-0500
TZOFFSETTO:-0400
TZNAME:EDT
DTSTART:20250309T070000
END:DAYLIGHT
BEGIN:STANDARD
TZOFFSETFROM:-0400
TZOFFSETTO:-0500
TZNAME:EST
DTSTART:20251102T060000
END:STANDARD
BEGIN:DAYLIGHT
TZOFFSETFROM:-0500
TZOFFSETTO:-0400
TZNAME:EDT
DTSTART:20260308T070000
END:DAYLIGHT
BEGIN:STANDARD
TZOFFSETFROM:-0400
TZOFFSETTO:-0500
TZNAME:EST
DTSTART:20261101T060000
END:STANDARD
END:VTIMEZONE
BEGIN:VEVENT
DTSTART;TZID=America/New_York:20251018T130000
DTEND;TZID=America/New_York:20251018T180000
DTSTAMP:20260422T204109
CREATED:20251006T155343Z
LAST-MODIFIED:20251008T140820Z
UID:16438-1760792400-1760810400@canopyandtheroots.com
SUMMARY:C+R Gold Rush Open House Jam
DESCRIPTION:What IS a speakeasy? Isn’t Canopy + the Roots just a little coffee shop? NOPE\, we are a social house and yoga studio upstairs and a dedicated\, professionally optimized to sound amazing 100 seat listening room/speakeasy underground. Come on over to Canopy during Gold Rush Days\, Dahlonega to tour and experience the venue-from the all-original jams of Ulterior Motive • Luke Daly • Banjo Steve and Sid to locally-baked goods and craft coffees. \nFREE TO ATTEND.
URL:https://canopyandtheroots.com/event/cr-gold-rush-open-house-jam
LOCATION:the Roots
CATEGORIES:music,workshop/class
ATTACH;FMTTYPE=image/jpeg:https://canopyandtheroots.com/wp-content/uploads/2025/10/ulteriormotive.jpg
END:VEVENT
END:VCALENDAR