BEGIN:VCALENDAR
VERSION:2.0
PRODID:-//Canopy + the Roots - ECPv6.15.20//NONSGML v1.0//EN
CALSCALE:GREGORIAN
METHOD:PUBLISH
X-WR-CALNAME:Canopy + the Roots
X-ORIGINAL-URL:https://canopyandtheroots.com
X-WR-CALDESC:Events for Canopy + the Roots
REFRESH-INTERVAL;VALUE=DURATION:PT1H
X-Robots-Tag:noindex
X-PUBLISHED-TTL:PT1H
BEGIN:VTIMEZONE
TZID:America/New_York
BEGIN:DAYLIGHT
TZOFFSETFROM:-0500
TZOFFSETTO:-0400
TZNAME:EDT
DTSTART:20240310T070000
END:DAYLIGHT
BEGIN:STANDARD
TZOFFSETFROM:-0400
TZOFFSETTO:-0500
TZNAME:EST
DTSTART:20241103T060000
END:STANDARD
BEGIN:DAYLIGHT
TZOFFSETFROM:-0500
TZOFFSETTO:-0400
TZNAME:EDT
DTSTART:20250309T070000
END:DAYLIGHT
BEGIN:STANDARD
TZOFFSETFROM:-0400
TZOFFSETTO:-0500
TZNAME:EST
DTSTART:20251102T060000
END:STANDARD
BEGIN:DAYLIGHT
TZOFFSETFROM:-0500
TZOFFSETTO:-0400
TZNAME:EDT
DTSTART:20260308T070000
END:DAYLIGHT
BEGIN:STANDARD
TZOFFSETFROM:-0400
TZOFFSETTO:-0500
TZNAME:EST
DTSTART:20261101T060000
END:STANDARD
END:VTIMEZONE
BEGIN:VEVENT
DTSTART;TZID=America/New_York:20250809T193000
DTEND;TZID=America/New_York:20250809T210000
DTSTAMP:20260422T235147
CREATED:20250618T175721Z
LAST-MODIFIED:20250618T190256Z
UID:16358-1754767800-1754773200@canopyandtheroots.com
SUMMARY:Cai Gray: singer-songwriter/storyteller LIVE in the Roots
DESCRIPTION:Purchase tickets HERE. \nCai Gray takes listeners deep into his own mental struggles and invites them to fight along side him. Imagine One Republics cinematic productions melded with emotional acoustic instrumentals like Shawn Mendes\, wrapped up in a solo artist package. His songs are poetic\, but grounded in real world struggles\, they make you want to succeed or ball your eyes out\, and they even come with a little southern twang and soul. He makes music for the people that want to be better as individuals and want to know they aren’t alone in this insane world. \nhttps://www.youtube.com/channel/UCe0MCYhVmeCBP_ozjrOur7g?view_as=subscriber \nhttps://www.instagram.com/caigraymusic \nConnect authentically to the artists by hearing them in our “speakeasy”-styled intimate listening room\, the Roots\, located underground beneath the Canopy social house. Hear the stories behind the songs as the artist(s) share their inspiration and even their heartaches. Doors open at 7:00pm; show starts at 7:30pm; VIP lounge with couches\, booths\, and tables are available. Reserve by emailing events@canopyandtheroots.com . Locally-sourced craft beer and wine available for purchase.
URL:https://canopyandtheroots.com/event/cai-gray-singer-songwriter-storyteller-live-in-the-roots
LOCATION:the Roots
CATEGORIES:music
ATTACH;FMTTYPE=image/jpeg:https://canopyandtheroots.com/wp-content/uploads/2025/06/The_Overgrown_CaiGray.jpg
END:VEVENT
END:VCALENDAR