BEGIN:VCALENDAR
VERSION:2.0
PRODID:-//Canopy + the Roots - ECPv6.15.20//NONSGML v1.0//EN
CALSCALE:GREGORIAN
METHOD:PUBLISH
X-ORIGINAL-URL:https://canopyandtheroots.com
X-WR-CALDESC:Events for Canopy + the Roots
REFRESH-INTERVAL;VALUE=DURATION:PT1H
X-Robots-Tag:noindex
X-PUBLISHED-TTL:PT1H
BEGIN:VTIMEZONE
TZID:America/New_York
BEGIN:DAYLIGHT
TZOFFSETFROM:-0500
TZOFFSETTO:-0400
TZNAME:EDT
DTSTART:20240310T070000
END:DAYLIGHT
BEGIN:STANDARD
TZOFFSETFROM:-0400
TZOFFSETTO:-0500
TZNAME:EST
DTSTART:20241103T060000
END:STANDARD
BEGIN:DAYLIGHT
TZOFFSETFROM:-0500
TZOFFSETTO:-0400
TZNAME:EDT
DTSTART:20250309T070000
END:DAYLIGHT
BEGIN:STANDARD
TZOFFSETFROM:-0400
TZOFFSETTO:-0500
TZNAME:EST
DTSTART:20251102T060000
END:STANDARD
BEGIN:DAYLIGHT
TZOFFSETFROM:-0500
TZOFFSETTO:-0400
TZNAME:EDT
DTSTART:20260308T070000
END:DAYLIGHT
BEGIN:STANDARD
TZOFFSETFROM:-0400
TZOFFSETTO:-0500
TZNAME:EST
DTSTART:20261101T060000
END:STANDARD
END:VTIMEZONE
BEGIN:VEVENT
DTSTART;TZID=America/New_York:20250503T160000
DTEND;TZID=America/New_York:20250503T230000
DTSTAMP:20260423T041630
CREATED:20250424T174053Z
LAST-MODIFIED:20250429T161207Z
UID:16332-1746288000-1746313200@canopyandtheroots.com
SUMMARY:ROOTS FEST '25 :: C+R's Festival celebrating southern music
DESCRIPTION:Purchase tickets HERE. \nA celebration of indie music from all avenues of the Peach State comes to the Gold City this Spring. Join us on Saturday\, May 3rd as Canopy and the Roots presents Roots Fest ’25. Our third annual festival will feature performances by Alley Bei\, Cat Carter\, Cody Smith\, Kaya’s Embrace\, Killough\, Mushroom Herders\, Perfect Animal\, and Witch Dance. We’ll also have special collabs\, merch and other surprises alongside the live music that kicks off midday and goes well into the night. \nKaya’s Embrace: Hailing from the peach state\, Kaya’s Embrace is one of Atlanta Georgia’s most entertaining artist with an original sound that’s as diverse and unique as the city they represent. Heavily influenced by Hip-Hop\, Roots Reggae & Hard Rock\, they continue to explore their creative boundaries while crafting their very own blend of Alternative Reggae/Rock.Kaya’s Embrace was co-founded by high-school besties\, Alex Jay Grossman & Cody McNeill in 2014. The goal from the very start was to create music with likeminded artist who also wanted to encourage people from all walks of life to follow their dreams\, appreciate their blessings and live in the moment. New Album “Now or Never” available now! \nAlex Grossman Lead Vocals/Lyricist/Melodica \nCody Mcneill Lead Guitarist/Backing Vocals \nThe Mushroom Herders: The Mushroom Herders is an independent singer/songwriter with an incredible gift for creating beats on the fly. His music speaks to the soul\, crafted for the people\, and driven by authenticity—not the status quo. Música para la gente! \nCody Smith: The winner of our 2024 Fall Open Mic Series! His acoustic and soul-filled songs will move your heart and sometimes your boots too. \nKilough: Our Neighborhood Songwriter\, Kilough (Ky-low)\, is an independent artist currently based in Atlanta. Featuring influences from folk\, country\, and pop\, and drawing inspiration from artists like Kacey Musgraves and Noah Kahan\, she creates an upbeat\, refreshing sound that is uniquely her own. \nBorn in the Midwest\, raised in the South\, and touring throughout the East\, Kilough’s life and music have taken her across America. Her latest singles\, “County Line” and “I Know You’re Listening” are out now. Stemming from her own experiences\, she hopes listeners will hear a little of themselves in her songs. \nAlley Bei: The music is high energy alternative with anime vibes and a spooky flavor. Alley is trilingual\, so expect lyrics in English\, Chinese\, and Spanish. It’s loud and flashy\, and she’s all about creating a memorable experience. Alley says to herself “Do it on the stage\, that’s the only place you can.” \nCat Carter: Cat Carter is an award winning singer songwriter from Atlanta Georgia who has developed a strong fanbase due to her unique sound. Her hit song “Gold” has now surpassed more than 2 million streams worldwide and has landed her on top 50 playlists in multiple countries such as Germany and Austria. A recent graduate of Berklee College of Music\, Cat now lives and performs in the Atlanta area\, Nashville and other cities around the Southeast US. \nPerfect Animal: Atlanta Indie-Alternative Music \nEric Peters – Guitar/ Lead Vocals \nAlex Dauer – BassDavid Burger – Lead Guitar \nWitchdance (formerly Doctor Deathray)Music and songwriting as haunting as the fog and woods of Southern Appalachia itself. \n• custom pizzas \n• craft beer & wine \n• merch mart \n• specialty cocktails and “mocktails” \n• indoor & outdoor lounge space \nFirst band plays at 4:00pm. \n  \n  \n 
URL:https://canopyandtheroots.com/event/roots-fest-25-celebrating-southern-music-crs-music-festival
LOCATION:the Roots
CATEGORIES:music
ATTACH;FMTTYPE=image/jpeg:https://canopyandtheroots.com/wp-content/uploads/2025/04/rootsfest25-1-scaled.jpg
END:VEVENT
END:VCALENDAR