BEGIN:VCALENDAR
VERSION:2.0
PRODID:-//Canopy + the Roots - ECPv6.15.20//NONSGML v1.0//EN
CALSCALE:GREGORIAN
METHOD:PUBLISH
X-ORIGINAL-URL:https://canopyandtheroots.com
X-WR-CALDESC:Events for Canopy + the Roots
REFRESH-INTERVAL;VALUE=DURATION:PT1H
X-Robots-Tag:noindex
X-PUBLISHED-TTL:PT1H
BEGIN:VTIMEZONE
TZID:America/New_York
BEGIN:DAYLIGHT
TZOFFSETFROM:-0500
TZOFFSETTO:-0400
TZNAME:EDT
DTSTART:20240310T070000
END:DAYLIGHT
BEGIN:STANDARD
TZOFFSETFROM:-0400
TZOFFSETTO:-0500
TZNAME:EST
DTSTART:20241103T060000
END:STANDARD
BEGIN:DAYLIGHT
TZOFFSETFROM:-0500
TZOFFSETTO:-0400
TZNAME:EDT
DTSTART:20250309T070000
END:DAYLIGHT
BEGIN:STANDARD
TZOFFSETFROM:-0400
TZOFFSETTO:-0500
TZNAME:EST
DTSTART:20251102T060000
END:STANDARD
BEGIN:DAYLIGHT
TZOFFSETFROM:-0500
TZOFFSETTO:-0400
TZNAME:EDT
DTSTART:20260308T070000
END:DAYLIGHT
BEGIN:STANDARD
TZOFFSETFROM:-0400
TZOFFSETTO:-0500
TZNAME:EST
DTSTART:20261101T060000
END:STANDARD
END:VTIMEZONE
BEGIN:VEVENT
DTSTART;TZID=America/New_York:20250329T193000
DTEND;TZID=America/New_York:20250329T210000
DTSTAMP:20260423T072713
CREATED:20250318T173224Z
LAST-MODIFIED:20250319T153319Z
UID:16298-1743276600-1743282000@canopyandtheroots.com
SUMMARY:Marley Jayne w/ Halem Albright\, Indie-Americana LIVE in the Roots
DESCRIPTION:PURCHASE TICKETS HERE. \nNative to the hills of North Georgia\, Marley Jayne brings together a variety of sounds from the high\, lonesome fiddle to groovy\, feet-tapping jams. She is a graduate of East Tennessee State University with a bachelor’s in Bluegrass\, Old-Time\, & Roots Music Studies and aims to use her skills to create a unique musical experience. Marley Jayne also has a passion for teaching and collaborating\, you can catch her with the Halem Albright Band\, and other local groups. She is gearing up to release her first EP\, Transitions\, so be on the lookout for new music soon! \n“’Blue Moon Confessions’ completely took me by surprise….Definitely one of the best new albums I’ve heard in a long time.” -Music News Week \nHalem Albright (guitarist\, vocalist\, songwriter) was born and raised in Atlanta\, Ga.\, brought up among music lovers. He started playing guitar and writing music at 14 and went on to be involved in several bands\, one of which(“The Green Light Council”) was an Athens Flagpole award winner. He started working on his debut album “Don’t Listen To Me” in 2010 with some of Atlanta and Athens’ greatest producers and musicians(namely John Keane\, Jeff Mosier\, Duane Trucks\, Count M’butu\, and Ike Stubblefield). In 2013 “The Halem Albright Band” was formed and two years later\, The H.A.B. had the honor of winning the “AthFest People’s Choice Awards” to be a part of the Athens’ festival’s compilation album. The Halem Albright Band’s first album “Through Human Eyes” was released in August of 2017\, soon followed by the release of their first live album “Live At Vinyl”. In 2023 The H.A.B. signed a deal with Spectra Music Group for the release of “Blue Moon Confessions” in September of 2024\, receiving rave reviews. Throughout his music career\, Halem has shared bills with music veterans such as Col. Bruce Hampton\, Leftover Salmon\, TAUK\, & The Disco Biscuits. \nConnect authentically to the artists by hearing them in our “speakeasy”-styled intimate listening room\, the Roots\, located underground beneath the Canopy social house. Hear the stories behind the songs as the artist(s) share their inspiration and even their heartaches. Doors open at 7:00pm; show starts at 7:30pm; VIP lounge with couches\, booths\, and tables are available. Reserve by emailing events@canopyandtheroots.com . Upon availability\, locally-sourced craft beer and wine may be available for purchase. \n  \n 
URL:https://canopyandtheroots.com/event/marley-jayne-local-bluegrass-old-time-boot-stompin-live-in-the-roots
LOCATION:the Roots
CATEGORIES:music
ATTACH;FMTTYPE=image/jpeg:https://canopyandtheroots.com/wp-content/uploads/2025/03/marleyjayne-1.jpg
END:VEVENT
END:VCALENDAR