BEGIN:VCALENDAR
VERSION:2.0
PRODID:-//Canopy + the Roots - ECPv6.15.20//NONSGML v1.0//EN
CALSCALE:GREGORIAN
METHOD:PUBLISH
X-ORIGINAL-URL:https://canopyandtheroots.com
X-WR-CALDESC:Events for Canopy + the Roots
REFRESH-INTERVAL;VALUE=DURATION:PT1H
X-Robots-Tag:noindex
X-PUBLISHED-TTL:PT1H
BEGIN:VTIMEZONE
TZID:America/New_York
BEGIN:DAYLIGHT
TZOFFSETFROM:-0500
TZOFFSETTO:-0400
TZNAME:EDT
DTSTART:20240310T070000
END:DAYLIGHT
BEGIN:STANDARD
TZOFFSETFROM:-0400
TZOFFSETTO:-0500
TZNAME:EST
DTSTART:20241103T060000
END:STANDARD
BEGIN:DAYLIGHT
TZOFFSETFROM:-0500
TZOFFSETTO:-0400
TZNAME:EDT
DTSTART:20250309T070000
END:DAYLIGHT
BEGIN:STANDARD
TZOFFSETFROM:-0400
TZOFFSETTO:-0500
TZNAME:EST
DTSTART:20251102T060000
END:STANDARD
BEGIN:DAYLIGHT
TZOFFSETFROM:-0500
TZOFFSETTO:-0400
TZNAME:EDT
DTSTART:20260308T070000
END:DAYLIGHT
BEGIN:STANDARD
TZOFFSETFROM:-0400
TZOFFSETTO:-0500
TZNAME:EST
DTSTART:20261101T060000
END:STANDARD
END:VTIMEZONE
BEGIN:VEVENT
DTSTART;TZID=America/New_York:20250214T190000
DTEND;TZID=America/New_York:20250214T213000
DTSTAMP:20260423T090622
CREATED:20250129T183800Z
LAST-MODIFIED:20250129T185229Z
UID:16235-1739559600-1739568600@canopyandtheroots.com
SUMMARY:CANOPY CELEBRATES FIVE YEARS with Jessica It's All Good Standup Comedy
DESCRIPTION:Purchase Tickets HERE. \nAbout Jessica: \n“Jessica It’s All Good is a lady comedian from the South with a loud personality\, no shame\, and not a whole lot of inhibitions. She has rocked out places like The Comedy Zone\, Laughing Skull Lounge\, Uptown Comedy Club\, MadLife Stage & Studios\, Truman State University\, Spartanburg Methodist College\, State University of New York College at Geneseo\, Emory University\, and many more. In 2014 she won her first comedy competition and received the 1st place prize of The Rev’d Up Comedy Jam Contest. She went on to perform in other competitions and was a semi-finalist in the 2014 Atlanta’s Top Comic Comedy Contest. In 2015 she took her comedy special: “Memoirs of a Supermodel Princess Clown to The Complex Theatre in Hollywood\, CA. In 2020\, Jessica produced her new\, race related\, comedy special: “WE’RE ALL CHOCOLATE\,” with the support of several donors. In 2021 it was nominated for “Mind-Blowing Comedy” For Comedic Writing Of The Year in the Writing/Adaptations category of The Young-Howze Theatre Awards. Whether she is traveling\, performing locally\, or online\, Jessica keeps the energy high and the laughs flowing. Her comedy will go down in history as comedy for positivity and change\, and she’ll keep it clean while on the way.” \nThe doors and speakeasy open at 7:00PM with show beginning at 7:30PM. Experience a performance in a venue like no other in our underground “speakeasy” listening room. Turn off your cell phones and be present to hear the stories behind the songs and writing of original artists. Limited seating. Craft beer and wine available.
URL:https://canopyandtheroots.com/event/fifth-birthday-celebration-with-jessica-its-all-goods-stand-up-comedy
LOCATION:the Roots
CATEGORIES:comedy
ATTACH;FMTTYPE=image/jpeg:https://canopyandtheroots.com/wp-content/uploads/2025/01/Cropped-2020.jpg
END:VEVENT
END:VCALENDAR