BEGIN:VCALENDAR
VERSION:2.0
PRODID:-//Canopy + the Roots - ECPv6.15.20//NONSGML v1.0//EN
CALSCALE:GREGORIAN
METHOD:PUBLISH
X-ORIGINAL-URL:https://canopyandtheroots.com
X-WR-CALDESC:Events for Canopy + the Roots
REFRESH-INTERVAL;VALUE=DURATION:PT1H
X-Robots-Tag:noindex
X-PUBLISHED-TTL:PT1H
BEGIN:VTIMEZONE
TZID:America/New_York
BEGIN:DAYLIGHT
TZOFFSETFROM:-0500
TZOFFSETTO:-0400
TZNAME:EDT
DTSTART:20240310T070000
END:DAYLIGHT
BEGIN:STANDARD
TZOFFSETFROM:-0400
TZOFFSETTO:-0500
TZNAME:EST
DTSTART:20241103T060000
END:STANDARD
BEGIN:DAYLIGHT
TZOFFSETFROM:-0500
TZOFFSETTO:-0400
TZNAME:EDT
DTSTART:20250309T070000
END:DAYLIGHT
BEGIN:STANDARD
TZOFFSETFROM:-0400
TZOFFSETTO:-0500
TZNAME:EST
DTSTART:20251102T060000
END:STANDARD
BEGIN:DAYLIGHT
TZOFFSETFROM:-0500
TZOFFSETTO:-0400
TZNAME:EDT
DTSTART:20260308T070000
END:DAYLIGHT
BEGIN:STANDARD
TZOFFSETFROM:-0400
TZOFFSETTO:-0500
TZNAME:EST
DTSTART:20261101T060000
END:STANDARD
END:VTIMEZONE
BEGIN:VEVENT
DTSTART;TZID=America/New_York:20250125T190000
DTEND;TZID=America/New_York:20250125T213000
DTSTAMP:20260423T104355
CREATED:20250106T153056Z
LAST-MODIFIED:20250106T153505Z
UID:16225-1737831600-1737840600@canopyandtheroots.com
SUMMARY:Samuel McDuffie & Friends\, emerging artist LIVE in the Roots
DESCRIPTION:Purchase Tickets HERE. \nSamuel McDuffie found his love for music and songwriting as a teenager growing up in Macon\, GA. He wrote his first song at age 13 and performed his first concert at age 15. Over the years\, Samuel has lived and toured all over the southeast\, allowing him to grow his songwriting and stage presence. He now lives in Dahlonega\, GA\, and hopes to continue to perform and entertain. Through his love of Southern Rock and interest in Appalachian American culture\, he has crafted his songwriting into an art form of storytelling\, ranging from sing-a-longs to character building. \nHis craftsmanship takes the listener on a journey through history and gives them the perspective of the characters he has created with his songs. \nThis night of music will provide the audience with Samuel McDuffie\, welcoming his new band “Bleak Midnight” making their first public debut.  Bleak Midnight will be joining Samuel McDuffie to play a few songs on their upcoming EP that will be released in 2024.  Come out and enjoy a night of storytelling through the eyes of Moonshiners\, a Cherokee Princess\, First-Time Parents\, Fisherman\, and Friends last summer together before the venture into the real world of working full time. \nIntimately connect to both artist and venue in our lush\, speakeasy-style\, 100-seat listening room. Hear the stories behind the all-original songs as the artist(s) share their inspiration and even their heartaches. \nDoors open at 7:00pm; show starts at 7:30pm; VIP lounge or balcony seating with table service available by contacting events@canopyandtheroots.com . Locally-sourced craft beer and wine available for purchase.  \n 
URL:https://canopyandtheroots.com/event/samuel-mcduffie-friends-emerging-artist-live-in-the-roots-2
LOCATION:the Roots
CATEGORIES:music
ATTACH;FMTTYPE=image/jpeg:https://canopyandtheroots.com/wp-content/uploads/2025/01/sammcduffie_01-25-25_canopyandtheroots.jpg
END:VEVENT
END:VCALENDAR