BEGIN:VCALENDAR
VERSION:2.0
PRODID:-//Canopy + the Roots - ECPv6.15.20//NONSGML v1.0//EN
CALSCALE:GREGORIAN
METHOD:PUBLISH
X-WR-CALNAME:Canopy + the Roots
X-ORIGINAL-URL:https://canopyandtheroots.com
X-WR-CALDESC:Events for Canopy + the Roots
REFRESH-INTERVAL;VALUE=DURATION:PT1H
X-Robots-Tag:noindex
X-PUBLISHED-TTL:PT1H
BEGIN:VTIMEZONE
TZID:America/New_York
BEGIN:DAYLIGHT
TZOFFSETFROM:-0500
TZOFFSETTO:-0400
TZNAME:EDT
DTSTART:20230312T070000
END:DAYLIGHT
BEGIN:STANDARD
TZOFFSETFROM:-0400
TZOFFSETTO:-0500
TZNAME:EST
DTSTART:20231105T060000
END:STANDARD
BEGIN:DAYLIGHT
TZOFFSETFROM:-0500
TZOFFSETTO:-0400
TZNAME:EDT
DTSTART:20240310T070000
END:DAYLIGHT
BEGIN:STANDARD
TZOFFSETFROM:-0400
TZOFFSETTO:-0500
TZNAME:EST
DTSTART:20241103T060000
END:STANDARD
BEGIN:DAYLIGHT
TZOFFSETFROM:-0500
TZOFFSETTO:-0400
TZNAME:EDT
DTSTART:20250309T070000
END:DAYLIGHT
BEGIN:STANDARD
TZOFFSETFROM:-0400
TZOFFSETTO:-0500
TZNAME:EST
DTSTART:20251102T060000
END:STANDARD
END:VTIMEZONE
BEGIN:VEVENT
DTSTART;TZID=America/New_York:20241214T193000
DTEND;TZID=America/New_York:20241214T210000
DTSTAMP:20260423T120040
CREATED:20241113T171536Z
LAST-MODIFIED:20241113T171536Z
UID:16196-1734204600-1734210000@canopyandtheroots.com
SUMMARY:Blue Ridge Mountain Christmas with the Solstice Sisters LIVE in the Roots
DESCRIPTION:Purchase tickets HERE. \n\n\nJoin us for a Blue Ridge Mountain Christmas with The Solstice Sisters. Formed in 1994\, these three friends\, Maggie Hunter\, Susan Staley and Anna Hiers harmonize old time country ballads\, bluegrass\, traditional folk and 40’s styled swing. Joining the Sisters are Mike Harrison on bass & banjo and Andy Carlson on fiddle\, mandolin & guitar.  Known not only for their lovely three part harmonies\, but also for their spontaneous and engaging live shows. \nThey have 3 recordings\, 2 of which are holiday themed\, “Holiday Music From Around The World ” recorded in 1999 and “Maybe By Christmas” released in 2019. They have performed at many festivals in Northeast Georgia including Bear On The Square\, North Georgia Folk Festival\, and were regulars at the Mountain Music and Medicine Show\, a live radio show taped at the Holly Theater in Dahlonega.  \n\n\nIntimately connect to both artist and venue in our lush\, speakeasy-style\, 100 seat listening room. Hear the stories behind the all-original songs as the artist(s) share their inspiration and even their heartaches. \nDoors open at 7:00pm; show starts at 7:30pm; VIP lounge or balcony seating with table service available by contacting events@canopyandtheroots.com .
URL:https://canopyandtheroots.com/event/blue-ridge-mountain-christmas-with-the-solstice-sisters-live-in-the-roots
LOCATION:the Roots
CATEGORIES:music
ATTACH;FMTTYPE=image/jpeg:https://canopyandtheroots.com/wp-content/uploads/2024/11/0-copy.jpeg
END:VEVENT
END:VCALENDAR