BEGIN:VCALENDAR
VERSION:2.0
PRODID:-//Canopy + the Roots - ECPv6.15.20//NONSGML v1.0//EN
CALSCALE:GREGORIAN
METHOD:PUBLISH
X-WR-CALNAME:Canopy + the Roots
X-ORIGINAL-URL:https://canopyandtheroots.com
X-WR-CALDESC:Events for Canopy + the Roots
REFRESH-INTERVAL;VALUE=DURATION:PT1H
X-Robots-Tag:noindex
X-PUBLISHED-TTL:PT1H
BEGIN:VTIMEZONE
TZID:America/New_York
BEGIN:DAYLIGHT
TZOFFSETFROM:-0500
TZOFFSETTO:-0400
TZNAME:EDT
DTSTART:20230312T070000
END:DAYLIGHT
BEGIN:STANDARD
TZOFFSETFROM:-0400
TZOFFSETTO:-0500
TZNAME:EST
DTSTART:20231105T060000
END:STANDARD
BEGIN:DAYLIGHT
TZOFFSETFROM:-0500
TZOFFSETTO:-0400
TZNAME:EDT
DTSTART:20240310T070000
END:DAYLIGHT
BEGIN:STANDARD
TZOFFSETFROM:-0400
TZOFFSETTO:-0500
TZNAME:EST
DTSTART:20241103T060000
END:STANDARD
BEGIN:DAYLIGHT
TZOFFSETFROM:-0500
TZOFFSETTO:-0400
TZNAME:EDT
DTSTART:20250309T070000
END:DAYLIGHT
BEGIN:STANDARD
TZOFFSETFROM:-0400
TZOFFSETTO:-0500
TZNAME:EST
DTSTART:20251102T060000
END:STANDARD
END:VTIMEZONE
BEGIN:VEVENT
DTSTART;TZID=America/New_York:20241207T200000
DTEND;TZID=America/New_York:20241207T220000
DTSTAMP:20260423T120041
CREATED:20241114T142726Z
LAST-MODIFIED:20241118T185549Z
UID:16200-1733601600-1733608800@canopyandtheroots.com
SUMMARY:Broken Cloud Machine and soup :: Garage Punk LIVE in the Roots
DESCRIPTION:Purchase tickets HERE. \nBroken Cloud Machine is a garage punk band from Gainesville Georgia and multi-instrumentalist Calvin Truelove’s primary musical project. Starting out as a bedroom experiment using a 4-track cassette\, Calvin began writing music under Broken Cloud Machine with their first record\, “What Will the Moon Say?” released in 2018. The original lineup has changed over the years with Calvin’s spirituality and inspirations leading him into a harsher\, rock-driven sound that demands attention. As Calvin puts it\, “I never found God in the beginning but then I met the Devil. And after getting to know Satan personally\, I decided whose side I wanted to be on. I don’t care if it’s not “cool” to be a Christian. Especially in the punk rock scene. My hatred of evil (including my own) overshadows the stigma of christianity that previously kept me from identifying with it. If people feel like God hates them\, or have no self-worth\, or that they are too “unholy” for God\, then my music might just be for them. We accept everyone\, not just the people who fit agendas. Exactly how Jesus Christ does!” \nsoup (styleized undewrcase) is a garage rock trio from Cochran Georgia founded by Kooper Hill (guitar and vocals) and Sam Holloway (drums) in 2022 and accompanied by Kaleb McGuire (bass guitar) since September 2024. Their recent debut EP “Homestyle Chicken Soup” sheds light on their heavy avant-garde influences such as Osees\, Radiohead\, and the early grunge movement. Showcasing their ability to create catchy distorted riffs with pop sensibilities; soup is hard-hitting and emotionally honest. \n  \nDoors open at 7:30pm; show starts at 8:00pm; VIP lounge or balcony seating with table service available by contacting events@canopyandtheroots.com .
URL:https://canopyandtheroots.com/event/broken-cloud-machine-and-soup-garage-punk-live-in-the-roots
LOCATION:the Roots
CATEGORIES:music
ATTACH;FMTTYPE=image/jpeg:https://canopyandtheroots.com/wp-content/uploads/2024/11/brokencloud_12-24.jpg
END:VEVENT
END:VCALENDAR