BEGIN:VCALENDAR
VERSION:2.0
PRODID:-//Canopy + the Roots - ECPv6.15.20//NONSGML v1.0//EN
CALSCALE:GREGORIAN
METHOD:PUBLISH
X-WR-CALNAME:Canopy + the Roots
X-ORIGINAL-URL:https://canopyandtheroots.com
X-WR-CALDESC:Events for Canopy + the Roots
REFRESH-INTERVAL;VALUE=DURATION:PT1H
X-Robots-Tag:noindex
X-PUBLISHED-TTL:PT1H
BEGIN:VTIMEZONE
TZID:America/New_York
BEGIN:DAYLIGHT
TZOFFSETFROM:-0500
TZOFFSETTO:-0400
TZNAME:EDT
DTSTART:20230312T070000
END:DAYLIGHT
BEGIN:STANDARD
TZOFFSETFROM:-0400
TZOFFSETTO:-0500
TZNAME:EST
DTSTART:20231105T060000
END:STANDARD
BEGIN:DAYLIGHT
TZOFFSETFROM:-0500
TZOFFSETTO:-0400
TZNAME:EDT
DTSTART:20240310T070000
END:DAYLIGHT
BEGIN:STANDARD
TZOFFSETFROM:-0400
TZOFFSETTO:-0500
TZNAME:EST
DTSTART:20241103T060000
END:STANDARD
BEGIN:DAYLIGHT
TZOFFSETFROM:-0500
TZOFFSETTO:-0400
TZNAME:EDT
DTSTART:20250309T070000
END:DAYLIGHT
BEGIN:STANDARD
TZOFFSETFROM:-0400
TZOFFSETTO:-0500
TZNAME:EST
DTSTART:20251102T060000
END:STANDARD
END:VTIMEZONE
BEGIN:VEVENT
DTSTART;TZID=America/New_York:20240928T193000
DTEND;TZID=America/New_York:20240928T210000
DTSTAMP:20260423T163535
CREATED:20240904T150223Z
LAST-MODIFIED:20240905T174202Z
UID:16106-1727551800-1727557200@canopyandtheroots.com
SUMMARY:Laura Murren and Paris Ymani : FOLK songwriters LIVE in the speakeasy
DESCRIPTION:Purchase tickets HERE. \nLaura Murren \nLaura was born in Atlanta in 1986. She’s been writing stories and poetry since the age of 10. A storyteller by nature\, Laura Murren’s lyrics always cut to the heart of the matter\, while her powerful vocals propel the listener into emotional highs and lows they may not have yet experienced. Her music mostly explores love and addiction\, self-awareness\, and always seeks to illuminate the truth\, be that truth beautiful or ugly\, right or wrong\, comforting or painful. Her style is quite hard to place\, and has proved to be unique to the listeners’ experience\, pulling out the nuances that speak to them in their moment from the melting pot of influences that come from being a musician who loves all the music this world has to offer.\n\nParis Ymani\n\nParis Ymani is a Midwest born/ATL based R&B Soulful songstress with a New Orleans style gumbo of musical influences ranging from Soul Music Royalty Ella Mai\, Rihanna\, and Alicia Keys to her own siblings as they have performed together since they were young. Paris first arrived on the scene as a featured artist on LoveOfPharaoh’s “Headliner\, Vol. 2” (2022)\, but took center stage in 2023 with the holiday track “Winter Warm” & her official introduction to the world with “Stand My Ground.” Although she released her latest single “Pause the Moment” in early 2024\, her momentum hasn’t paused at all with her hauntingly beautiful lyrics and  passionately soulful voice captivating audiences all over the Peach State from Dahlonega\, Athens\, Loganville and of course Atlanta just to name a few. While she continues to stand her ground\, Paris Ymani has indeed become one of the breakout artists with more to come.\nEvery artist plays a small stage; come catch these songs in the most intimate and lush of listening rooms.
URL:https://canopyandtheroots.com/event/laura-murren-and-paris-yumani-folk-songwriters-live-in-the-speakeasy
LOCATION:the Roots
CATEGORIES:music
ATTACH;FMTTYPE=image/jpeg:https://canopyandtheroots.com/wp-content/uploads/2024/09/laura_paris_canopyandtheroots-1-scaled.jpg
END:VEVENT
END:VCALENDAR