BEGIN:VCALENDAR
VERSION:2.0
PRODID:-//Canopy + the Roots - ECPv6.15.20//NONSGML v1.0//EN
CALSCALE:GREGORIAN
METHOD:PUBLISH
X-WR-CALNAME:Canopy + the Roots
X-ORIGINAL-URL:https://canopyandtheroots.com
X-WR-CALDESC:Events for Canopy + the Roots
REFRESH-INTERVAL;VALUE=DURATION:PT1H
X-Robots-Tag:noindex
X-PUBLISHED-TTL:PT1H
BEGIN:VTIMEZONE
TZID:America/New_York
BEGIN:DAYLIGHT
TZOFFSETFROM:-0500
TZOFFSETTO:-0400
TZNAME:EDT
DTSTART:20230312T070000
END:DAYLIGHT
BEGIN:STANDARD
TZOFFSETFROM:-0400
TZOFFSETTO:-0500
TZNAME:EST
DTSTART:20231105T060000
END:STANDARD
BEGIN:DAYLIGHT
TZOFFSETFROM:-0500
TZOFFSETTO:-0400
TZNAME:EDT
DTSTART:20240310T070000
END:DAYLIGHT
BEGIN:STANDARD
TZOFFSETFROM:-0400
TZOFFSETTO:-0500
TZNAME:EST
DTSTART:20241103T060000
END:STANDARD
BEGIN:DAYLIGHT
TZOFFSETFROM:-0500
TZOFFSETTO:-0400
TZNAME:EDT
DTSTART:20250309T070000
END:DAYLIGHT
BEGIN:STANDARD
TZOFFSETFROM:-0400
TZOFFSETTO:-0500
TZNAME:EST
DTSTART:20251102T060000
END:STANDARD
END:VTIMEZONE
BEGIN:VEVENT
DTSTART;TZID=America/New_York:20240823T200000
DTEND;TZID=America/New_York:20240823T220000
DTSTAMP:20260423T192633
CREATED:20240802T190501Z
LAST-MODIFIED:20240802T200209Z
UID:16039-1724443200-1724450400@canopyandtheroots.com
SUMMARY:Stand-Up Comedy presented by Die Laughing Comedy
DESCRIPTION:
URL:https://canopyandtheroots.com/event/stand-up-comedy-headliner-show-with-die-laughing-comedy
LOCATION:the Roots
CATEGORIES:comedy
ATTACH;FMTTYPE=image/png:https://canopyandtheroots.com/wp-content/uploads/2024/08/Aug-23rd.png
END:VEVENT
END:VCALENDAR