BEGIN:VCALENDAR
VERSION:2.0
PRODID:-//Canopy + the Roots - ECPv6.15.20//NONSGML v1.0//EN
CALSCALE:GREGORIAN
METHOD:PUBLISH
X-ORIGINAL-URL:https://canopyandtheroots.com
X-WR-CALDESC:Events for Canopy + the Roots
REFRESH-INTERVAL;VALUE=DURATION:PT1H
X-Robots-Tag:noindex
X-PUBLISHED-TTL:PT1H
BEGIN:VTIMEZONE
TZID:America/New_York
BEGIN:DAYLIGHT
TZOFFSETFROM:-0500
TZOFFSETTO:-0400
TZNAME:EDT
DTSTART:20230312T070000
END:DAYLIGHT
BEGIN:STANDARD
TZOFFSETFROM:-0400
TZOFFSETTO:-0500
TZNAME:EST
DTSTART:20231105T060000
END:STANDARD
BEGIN:DAYLIGHT
TZOFFSETFROM:-0500
TZOFFSETTO:-0400
TZNAME:EDT
DTSTART:20240310T070000
END:DAYLIGHT
BEGIN:STANDARD
TZOFFSETFROM:-0400
TZOFFSETTO:-0500
TZNAME:EST
DTSTART:20241103T060000
END:STANDARD
BEGIN:DAYLIGHT
TZOFFSETFROM:-0500
TZOFFSETTO:-0400
TZNAME:EDT
DTSTART:20250309T070000
END:DAYLIGHT
BEGIN:STANDARD
TZOFFSETFROM:-0400
TZOFFSETTO:-0500
TZNAME:EST
DTSTART:20251102T060000
END:STANDARD
END:VTIMEZONE
BEGIN:VEVENT
DTSTART;TZID=America/New_York:20240727T190000
DTEND;TZID=America/New_York:20240727T210000
DTSTAMP:20260423T194250
CREATED:20240715T135423Z
LAST-MODIFIED:20240715T135900Z
UID:15994-1722106800-1722114000@canopyandtheroots.com
SUMMARY:Queendom Roots in the Round\, multi-songwriter feature LIVE at Canopy + the Roots
DESCRIPTION:Purchase tickets HERE. \nA unique take of the “Songwriters in a Round” Showcase to the Gold City as we present “Roots in the Round.” Join us on Saturday\, July 27th as Nancy Heiges\, December Ivey\, Lilith Jenovax\, Laura Murren\, and Collette Whittemore will be coming together in the intimate speakeasy listening room\, better known as The Roots\, as they weave through their stories of success\, heartache\, and everything in between behind their songs with the strings of authenticity playing a melody that will bring it all together for an unforgettable listening experience. Doors at 7PM\, Show at 7:30PM. \nNancy Heiges – Athens\, GA based singer-songwriter inspired by the sounds of folk\, jazz & blues\, weaving her lyrics based on life experiences of her own and her community. She released her debut full-length Songs of Love & Longing in 2024. \nDecember Ivey – December Ivey is an internationally recognized R&B/Soul with a hint of Pop singer that has a repertoire of aural selections that is guaranteed to make you feel\, make you think\, and make you dance. \nLilith Jenovax – Lilith Jenovax is a 28-year-old multifaceted artist that is skilled in photography\, modeling\, music\, acting\, writing\, and creating conceptual pieces.\nBefore obtaining her bachelor’s degree in psychology\, she studied as an art major\, going on to pursue her own as a full time freelance artist. She has been published multiple times as a model\, both nationally and internationally\, has been nationally published as a photographer\, and she has acted in award winning films and creative short films. In 2021\, she released her full length freshman album ‘Only Temporary’. She has exceptional skills in professional editing\, posing\, composition\, writing\, and design\, and continues to research and perfect her craft in multiple avenues. Her services are desired by anyone needing portrait or event work\, portfolio development\, promotional pieces\, vocal tracks\, writing content\, acting\, or modeling for a product or an artist’s vision. \nLaura Murren – Georgia-based singer/songwriter & comedienne Laura Murren brings her unique brand of storytelling through her powerhouse vocals & passionate songs of Love\, Heartache and everything in between. \nCollette Whittemore – Celestial poetess Collette Whittemore weaves her words inspired by her upbringings in the Sunshine State of Florida in order to stitch together a tapestry intending to inspire that one can rise from it all and burn brighter than ever before. Her debut Mnemophobia is a conglomerate of intense emotions like Rupi Kaur’s poetry and with a dash of intriguing metaphors like Sabrina Benaim’s Depression and other Magic Tricks. Whether you’re a teen or an adult\, you won’t want to put this book down as you traverse through topics such as abuse\, alcoholism\, anxiety\, depression\, and heartbreak and then shift into an uplifting spirit of confidence and self worth. \n 
URL:https://canopyandtheroots.com/event/queendom-roots-in-the-round-multi-songwriter-feature-live-at-canopy-the-roots
LOCATION:the Roots
CATEGORIES:music
END:VEVENT
END:VCALENDAR