BEGIN:VCALENDAR
VERSION:2.0
PRODID:-//Canopy + the Roots - ECPv6.15.20//NONSGML v1.0//EN
CALSCALE:GREGORIAN
METHOD:PUBLISH
X-ORIGINAL-URL:https://canopyandtheroots.com
X-WR-CALDESC:Events for Canopy + the Roots
REFRESH-INTERVAL;VALUE=DURATION:PT1H
X-Robots-Tag:noindex
X-PUBLISHED-TTL:PT1H
BEGIN:VTIMEZONE
TZID:America/New_York
BEGIN:DAYLIGHT
TZOFFSETFROM:-0500
TZOFFSETTO:-0400
TZNAME:EDT
DTSTART:20230312T070000
END:DAYLIGHT
BEGIN:STANDARD
TZOFFSETFROM:-0400
TZOFFSETTO:-0500
TZNAME:EST
DTSTART:20231105T060000
END:STANDARD
BEGIN:DAYLIGHT
TZOFFSETFROM:-0500
TZOFFSETTO:-0400
TZNAME:EDT
DTSTART:20240310T070000
END:DAYLIGHT
BEGIN:STANDARD
TZOFFSETFROM:-0400
TZOFFSETTO:-0500
TZNAME:EST
DTSTART:20241103T060000
END:STANDARD
BEGIN:DAYLIGHT
TZOFFSETFROM:-0500
TZOFFSETTO:-0400
TZNAME:EDT
DTSTART:20250309T070000
END:DAYLIGHT
BEGIN:STANDARD
TZOFFSETFROM:-0400
TZOFFSETTO:-0500
TZNAME:EST
DTSTART:20251102T060000
END:STANDARD
END:VTIMEZONE
BEGIN:VEVENT
DTSTART;TZID=America/New_York:20240713T190000
DTEND;TZID=America/New_York:20240713T210000
DTSTAMP:20260423T194248
CREATED:20240628T191334Z
LAST-MODIFIED:20240628T191442Z
UID:15985-1720897200-1720904400@canopyandtheroots.com
SUMMARY:Aviva & The Unknown\, folk & alternative LIVE in the Roots
DESCRIPTION:Purchase tickets HERE. \n\n\n\n\n\nAviva & the Flying Penguins –  Aviva and the Flying Penguins bring an eclectic mix of musical styles to the sound table such as jazz\, rock\, pop\, folk\, and reggae with world-positive lyrics. A Qi Ensemble of World Folk Fusion like Global Folky Harmonic Sound Bath of Healing Words. Aviva and the Flying Penguins are an award-winning\, classy powerhouse of a world-beats influenced multi-genre soundscape. With intentions of creating more harmony for humanity while removing dissonance\, they are not shy about putting a movement to action with songs to live by and world-touring with purpose beyond their magnetic performances.\n\nThe Unknown – The Unknown is an alternative metal band from Snellville\, GA known of emotional lyrics & melodies\, specializing in playing originals with occasional covers from the 90s that inspired their sounds but overall driven by low ends & haunting melodies that produce a unique sound and creating a great atmosphere for any and all stages.\n\n\n\n\n\n 
URL:https://canopyandtheroots.com/event/aviva-the-unknown-folk-alternative-live-in-the-roots
LOCATION:the Roots
CATEGORIES:music
ATTACH;FMTTYPE=image/jpeg:https://canopyandtheroots.com/wp-content/uploads/2024/06/426400305_331563389881323_7767770923112885985_n.jpg
END:VEVENT
END:VCALENDAR