BEGIN:VCALENDAR
VERSION:2.0
PRODID:-//Canopy + the Roots - ECPv6.15.20//NONSGML v1.0//EN
CALSCALE:GREGORIAN
METHOD:PUBLISH
X-ORIGINAL-URL:https://canopyandtheroots.com
X-WR-CALDESC:Events for Canopy + the Roots
REFRESH-INTERVAL;VALUE=DURATION:PT1H
X-Robots-Tag:noindex
X-PUBLISHED-TTL:PT1H
BEGIN:VTIMEZONE
TZID:America/New_York
BEGIN:DAYLIGHT
TZOFFSETFROM:-0500
TZOFFSETTO:-0400
TZNAME:EDT
DTSTART:20230312T070000
END:DAYLIGHT
BEGIN:STANDARD
TZOFFSETFROM:-0400
TZOFFSETTO:-0500
TZNAME:EST
DTSTART:20231105T060000
END:STANDARD
BEGIN:DAYLIGHT
TZOFFSETFROM:-0500
TZOFFSETTO:-0400
TZNAME:EDT
DTSTART:20240310T070000
END:DAYLIGHT
BEGIN:STANDARD
TZOFFSETFROM:-0400
TZOFFSETTO:-0500
TZNAME:EST
DTSTART:20241103T060000
END:STANDARD
BEGIN:DAYLIGHT
TZOFFSETFROM:-0500
TZOFFSETTO:-0400
TZNAME:EDT
DTSTART:20250309T070000
END:DAYLIGHT
BEGIN:STANDARD
TZOFFSETFROM:-0400
TZOFFSETTO:-0500
TZNAME:EST
DTSTART:20251102T060000
END:STANDARD
END:VTIMEZONE
BEGIN:VEVENT
DTSTART;VALUE=DATE:20240201
DTEND;VALUE=DATE:20240302
DTSTAMP:20260424T030632
CREATED:20240112T181700Z
LAST-MODIFIED:20240202T141056Z
UID:15861-1706745600-1709337599@canopyandtheroots.com
SUMMARY:CNPY Selfie Pop-Up with West Destiny Drive Photography
DESCRIPTION:Drop-in during business hours to walk through and photograph in Canopy + the Roots’ February love-themed photo pop-up stations. The pop-up is located inside of Canopy + the Roots on street level in the glass room. Come in to the beverage bar and pay $15 individual | $18 couple for all three vignettes.
URL:https://canopyandtheroots.com/event/cnpy-selfie-pop-up-with-west-destiny-drive-photography
LOCATION:the Canopy
CATEGORIES:art
ATTACH;FMTTYPE=image/jpeg:https://canopyandtheroots.com/wp-content/uploads/2024/01/Photo-Feb-02-2024-9-09-20-AM-scaled.jpg
END:VEVENT
END:VCALENDAR